BEGIN:VCALENDAR
VERSION:2.0
PRODID:-//Well for the Journey - ECPv5.16.4//NONSGML v1.0//EN
CALSCALE:GREGORIAN
METHOD:PUBLISH
X-WR-CALNAME:Well for the Journey
X-ORIGINAL-URL:https://wellforthejourney.org
X-WR-CALDESC:Events for Well for the Journey
REFRESH-INTERVAL;VALUE=DURATION:PT1H
X-Robots-Tag:noindex
X-PUBLISHED-TTL:PT1H
BEGIN:VTIMEZONE
TZID:America/New_York
BEGIN:DAYLIGHT
TZOFFSETFROM:-0500
TZOFFSETTO:-0400
TZNAME:EDT
DTSTART:20260308T070000
END:DAYLIGHT
BEGIN:STANDARD
TZOFFSETFROM:-0400
TZOFFSETTO:-0500
TZNAME:EST
DTSTART:20261101T060000
END:STANDARD
END:VTIMEZONE
BEGIN:VEVENT
DTSTART;TZID=America/New_York:20260422T100000
DTEND;TZID=America/New_York:20260422T113000
DTSTAMP:20260422T102402
CREATED:20260309T161058Z
LAST-MODIFIED:20260309T161338Z
UID:23542-1776852000-1776857400@wellforthejourney.org
SUMMARY:Women at the Well - Love & Fierce Tenderness for These Times (Online Program)
DESCRIPTION:“Always\, the Well Women programs are excellent!” – Cindy Hilbert\n\n“I am so grateful to have an online option!!!” – Becky Slater\n\n“I use some of the shared content daily. I look forward to a follow-up class.” – Michaele Fisher\n\n“This session was so rich! The quotes/questions inspired deep sharing! Well done!” – Barb Gilliss \n************************************************************************ \n\n“God’s love can walk and chew gum at the same time.”— Cherished Belonging\, Gregory Boyle\, SJ \nHow do we recognize and claim the unshakable goodness in everyone (no exceptions!)? How do we live with radical kindness? How do we see that love is the light inside everything? \nExplore the tenderness\, grit\, and grace of love. We’ll draw from Father Gregory Boyle’s recent book\, Cherished Belonging: The Healing Power of Love in Divided Times\, to gain bold\, new perspectives\, practical insight\, and deepen our compassion. Join us to help build the loving community we long to live in. There is no need to read the book (but you might enjoy it!). \nWomen at the Well is a spiritual companioning program open to all women seeking space to listen for\, become more aware of\, and respond to the Divine in their daily lives. This small group program includes time for reflection and sacred conversation in the community of other women on the journey. \nTwo sessions of this program will be offered – one In-Person at the Well and one Online. This registration is for the Online session. Materials will be mailed to each participant. Please register by April 1st\, and use the address where materials should be mailed\, to ensure receipt of the materials prior to the start of the program. Thank you! \nDATE: Wednesdays – 4/8\, 4/15\, 4/22\, 4/29\, 5/6\, and 5/13/26 \nTIME: 10:00 – 11:30 AM \nCOST: $135 \nLOCATION: Zoom \nREGISTRATION is required; please register by April 1 and use the address where you want your program materials sent to assure receipt. REGISTER HERE. \nIMPORTANT: You will receive an email from programming@wellforthejourney.org at least 24 hours in advance of the start of your program. If you are unable to find the email\, please check your SPAM or JUNK email folders. This email will include details to help you prepare for your program including any pertinent handouts\, location information\, and the ZOOM link for online programs. Please be sure you have received and read this email a minimum of 24 hours in advance of the start of the program. Thank you! \nFACILITATORS: Mabeth Hudson and Terri Smith \nFACILITATOR BIOS:\nMabeth Hudson:\nThrough her leadership and writing\, Mabeth encourages people to listen to their inner wisdom\, discover meaningful connections\, grow through challenges\, and better love and be loved in the nitty-gritty of everyday life. Mabeth is passionate about attending to the spiritual dimension of being human in a practical way\, as it impacts all of one’s relationships. For over 20 years\, she has been developing and leading programs for spiritual wellness\, personal growth\, and leadership development. Her workshops\, classes\, retreats\, and writing offer accessible tools to integrate into daily life.After practicing law for several years\, Mabeth entered a discernment process which led to the co-founding of Well for the Journey in 2002. \n\nTerri Smith:\nTerri is a retired professional educator who has a special interest in encouraging spiritual growth by honoring the different learning styles with multi-sensory exercises and creative exploration. As one of the founders of the Well\, she develops curriculum and leads Women at the Well\, facilitator training\, and retreats. Terri believes that she is similar to many others in always seeking to enrich her spiritual growth and development. She is a member of the Presbyterian Church (USA) and the mother of three.
URL:https://wellforthejourney.org/event/women-at-the-well-love-fierce-tenderness-for-these-times-online-program/2026-04-22/
LOCATION:ZOOM
CATEGORIES:Online Programs
ATTACH;FMTTYPE=image/png:https://wellforthejourney.org/wp-content/uploads/2026/03/Women-at-the-Well-Love-Fierce-Tenderness-900x506-1.png
ORGANIZER;CN="Well%20for%20the%20Journey":MAILTO:lorie@wellforthejourney.org
END:VEVENT
END:VCALENDAR