BEGIN:VCALENDAR
VERSION:2.0
PRODID:-//Well for the Journey - ECPv5.16.4//NONSGML v1.0//EN
CALSCALE:GREGORIAN
METHOD:PUBLISH
X-ORIGINAL-URL:https://wellforthejourney.org
X-WR-CALDESC:Events for Well for the Journey
REFRESH-INTERVAL;VALUE=DURATION:PT1H
X-Robots-Tag:noindex
X-PUBLISHED-TTL:PT1H
BEGIN:VTIMEZONE
TZID:America/New_York
BEGIN:DAYLIGHT
TZOFFSETFROM:-0500
TZOFFSETTO:-0400
TZNAME:EDT
DTSTART:20260308T070000
END:DAYLIGHT
BEGIN:STANDARD
TZOFFSETFROM:-0400
TZOFFSETTO:-0500
TZNAME:EST
DTSTART:20261101T060000
END:STANDARD
END:VTIMEZONE
BEGIN:VEVENT
DTSTART;TZID=America/New_York:20260302T103000
DTEND;TZID=America/New_York:20260302T120000
DTSTAMP:20260422T121736
CREATED:20250804T184328Z
LAST-MODIFIED:20250805T135237Z
UID:22495-1772447400-1772452800@wellforthejourney.org
SUMMARY:Anam Cara – A Soul Care Group for Spiritual Caregivers (Online Program - Morning Group)
DESCRIPTION:“I have appreciated having a space with people\, colleagues…The ability to walk and journal\, having that time carved out so other things don’t get in the way of it is helpful.” – Rev Andy McClain\n \n“I needed a community where I could be myself as an African American woman…Our Anam Cara group became the place where I could be just that. Authenticity and integrity seemed to be primary values for the group from the first time I entered.” – Rev. Freda Marie Brown\n \n“…I loved the opportunity to share new thoughts and ideas as I underwent my own spiritual transformation. I loved the openness and the refreshing way we all supported each other’s voices\, accepting with interest and love whatever was being offered\, without judgement.  – Rev. Freda Marie Brown\n \nI value opportunities for creativity\, contemplation\, and connection…and for curiosity about how it goes with each participant: How goes retirement? How goes vocational discernment? How goes caring for loved ones? How goes raising children?” – Rev. Clare Petersberger\n \n“Our Anam Cara gatherings remind me to mark the time through the changing seasons of the year and of our lives with soul friends. For all of these are holy things we will not\, cannot\, find again.” – Rev Clare Petersberger\n  \nCaring for others can be deeply meaningful—and deeply depleting. For ministers\, chaplains\, spiritual companions\, and others who offer soul care\, the act of holding sacred space for others can come at the cost of your own spiritual nourishment. The Well’s Anam Cara (Soul Friend) Group is a space created just for you—a place to receive the care you regularly encourage for others – soul care. \nThis small group\, sacred community welcomes spiritual caregivers (active\, retired\, or on sabbatical) to rest\, reflect\, and be. There are no roles to fill or responsibilities to carry. Here\, you are invited to water your own soul\, speak freely or remain silent\, and simply show up as you are—without judgment or expectation. \nWe are honored to welcome back Cecilia Amaral as facilitator for another year of Anam Cara. Cecilia has a deep commitment to encourage others to nurture authentic and thriving relationships with themselves\, others\, and their environments. Cecilia brings extensive experience working with spiritual caregivers and clergy from many faith traditions on an individual basis\, in groups\, and with denominational staff. She is uniquely gifted in holding space for those navigating the weight and complexity of spiritual companionship and leadership today. \nDue to high interest\, we are delighted to offer two online groups this year! Both groups will meet on the first Monday of the month\, October through June (with adjustments for holy days and holidays\, as needed): \n\nMorning Group – 10:30 AM – 12:00 PM ET (This website page you are reading right now is for the morning group!)\nEvening Group – 7:00 PM – 8:30 PM ET\n\n\nEach session follows a spacious rhythm: \n\nA check-in time with one another\nA reflection prompt offered by Cecila\n30 minutes of quiet\, off-screen personal reflection\nOptional sharing and a closing blessing\n\n\nCome be part of one of these nurturing circles. Let this be a season where your soul is tended with the same compassionate soul care you offer others. \nPlease Note: This registration is for the Morning Sessions. \nDATES: Mondays – 10/6\, 11/3\, 12/1/25 and 1/5\, 2/2\, 3/2\, 4/6\, 5/4\, 6/1/26 \nTIME: 10:30 AM – 12:00 PM ET \nCOST: $95 \nLOCATION: ZOOM \nREGISTRATION is required; please register here. \nIMPORTANT: You will receive an email from programming@wellforthejourney.org at least 24 hours in advance of the start of your program. If you are unable to find the email\, please check your SPAM or JUNK email folders. This email will include details to help you prepare for your program including any pertinent handouts\, location information\, and the ZOOM link for online programs. Please be sure you have received and read this email a minimum of 24 hours in advance of the start of the program. Thank you! \nFACILITATOR: Cecilia Amaral \nFACILITATOR BIO: \nCecilia Amaral has a deep commitment to encourage others to nurture authentic and thriving relationships with themselves\, others\, and their environments. Her decision to retire after more than 25 years as a Pastoral Psychotherapist and Educator has transitioned into her current practice as Spiritual Director and Certified Professional Life Coach. Cecilia’s integrated approach in companioning others on their journey leads to meaningful\, personal\, and relational transformation. \nCecilia began her involvement with the mission of the Well by referring clients to use the programs offered for their well-being. This evolved into her service as a board member\, Board Chair\, Circle Chair\, and Spiritual Guide to the Board of Directors.
URL:https://wellforthejourney.org/event/anam-cara-a-soul-care-group-for-spiritual-caregivers-online-program-mornings/2026-03-02/
LOCATION:ZOOM
CATEGORIES:Online Programs
ATTACH;FMTTYPE=image/png:https://wellforthejourney.org/wp-content/uploads/2025/08/Anam-Cara-Clergy-Group-25-26-900-x-506-px-1.png
ORGANIZER;CN="Well%20for%20the%20Journey":MAILTO:lorie@wellforthejourney.org
END:VEVENT
BEGIN:VEVENT
DTSTART;TZID=America/New_York:20260302T130000
DTEND;TZID=America/New_York:20260302T143000
DTSTAMP:20260422T121736
CREATED:20251125T175914Z
LAST-MODIFIED:20251125T175914Z
UID:23192-1772456400-1772461800@wellforthejourney.org
SUMMARY:Ending Well: Empowering Conversations About Death & Dying (Online Program)
DESCRIPTION:The natural circle of life reminds us that we will not live forever. While our culture resists talking about the taboo topic of death\, we can be empowered to live more fully through conversations\, reflections\, and making practical plans for death and dying. This series is designed to cultivate peace and empowerment (within us and our loved ones)\, while letting go of fear. \nMabeth Hudson is graciously offering this important and encouraging program again for the fourth time at the Well! Together you will explore stories and perspectives on death\, contemplate the things that are uniquely important for you to live and die well\, and gain practical tools and steps to prepare yourself and your loved ones. \nThrough didactic sharing of information with Mabeth\, personal reflection\, and small group conversations\, you will: \n\nBecome aware of the need to make choices about what is important to you as you face the final chapters\,\nFeel more confident about guiding your loved ones in your desires\,\nHave an action plan for conversations with loved ones and your medical team\,\nRealize you not alone\, and\,\nReduce fear and increase empowerment.\n\nThis program is designed for people in the second half of life\, anyone with loved ones nearing the end of their life\, and anyone who wishes to reduce their fear of death. Join us for this soul nourishing program and leave empowered to live and die more fully and peacefully in this sacred season of life. \nDATE: Mondays – 2/16\, 2/23\, and 3/2/26 \nTIME: 1:00 – 2:30 PM ET \nCOST: $100 \nLOCATION: ZOOM \nREGISTRATION is required; please register here. \nIMPORTANT: You will receive an email from programming@wellforthejourney.org at least 24 hours in advance of the start of your program. If you are unable to find the email\, please check your SPAM or JUNK email folders. This email will include details to help you prepare for your program including any pertinent handouts\, location information\, and the ZOOM link for online programs. Please be sure you have received and read this email a minimum of 24 hours in advance of the start of the program. Thank you! \nFACILITATOR: Mabeth Hudson \nFACILITATOR BIO: \nThrough her leadership and writing\, Mabeth encourages people to listen to their inner wisdom\, discover meaningful connections\, grow through challenges\, and better love and be loved in the nitty-gritty of everyday life. Mabeth is passionate about attending to the spiritual dimension of being human in a practical way\, as it impacts all of one’s relationships. For over 20 years\, she has been developing and leading programs for spiritual wellness\, personal growth\, and leadership development. Her workshops\, classes\, retreats\, and writing offer accessible tools to integrate into daily life. \nAfter practicing law for several years\, Mabeth entered a discernment process which led to the co-founding of Well for the Journey in 2002. Learn more about Mabeth at her website\, here.
URL:https://wellforthejourney.org/event/ending-well-empowering-conversations-about-death-dying-online-program-2/2026-03-02/
LOCATION:ZOOM
CATEGORIES:Online Programs
ATTACH;FMTTYPE=image/png:https://wellforthejourney.org/wp-content/uploads/2025/11/Ending-Well-2026-900x506-1.png
ORGANIZER;CN="Well%20for%20the%20Journey":MAILTO:lorie@wellforthejourney.org
END:VEVENT
BEGIN:VEVENT
DTSTART;TZID=America/New_York:20260302T183000
DTEND;TZID=America/New_York:20260302T203000
DTSTAMP:20260422T121736
CREATED:20251027T154724Z
LAST-MODIFIED:20251027T160220Z
UID:22915-1772476200-1772483400@wellforthejourney.org
SUMMARY:Deconstructing Your Faith\, Re-envisioning Your Spirituality (Online Program)
DESCRIPTION:“The combination of Greg and Gordon was awesome!!!” – Judy Wright \n“It was very well done\, a good mix of time together\, group breakouts and meditations. Greg and Gordon created an accepting and comfortable environment.” – Nancy \nDo you ever wonder about the image of God you are carrying?… Have you reached a place in your human journey where you are questioning the faith tradition that you have been a part of and its relevance to your spiritual journey?… Has the faith community/tradition you made a home in brought wounding\, confusion\, or despair to you in navigating the transitions and thresholds of your life?… \nIf the answer that arises within you as you ponder these questions is ‘yes\,’ please know that you are not alone. Current statistics reveal to us that in the United States the number of individuals who are affiliated with a particular faith tradition and/or denomination continue to decrease. Many people are questioning the role of religion in their lives and decidedly searching for alternatives to a worship community and complicated doctrines. \nIn this sacred pursuit\, more and more questions abound as humanity struggles to listen more deeply to God’s authentic voice in their everyday lives. In this listening\, many are discovering a divine invitation to pause and reconsider the meaning underlying this reality. Perhaps\, a way to move forward is to explore the possibility of deconstructing the faith we carry while re-envisioning the purpose and possibilities of what it means to live from our deeper spiritual identity. \nJoin Well for the Journey’s own Greg Cochran and Gordon Creamer for this online series\, where we will explore the pressing questions in our hearts around this wrestling with what it means to practice the faith we carry – or were taught to carry – while welcoming a deep\, unfed spiritual hunger. At this critical juncture in our personal and collective histories\, intentionally spending time in this way is not only an act of great self-compassion and care\, it can also become an embodied expression of healing for others whom we are connected to in the world. While in the presence of sacred and safe community\, each session will invite participants to engage in a period of contemplative silence around an excerpt from various wisdom writings\, such as bell hooks\, Richard Rohr\, Barbara Brown Taylor\, and Brian McLaren among others. Also included will be opportunities for personal reflection\, journaling\, small and large group conversations\, and other creative spiritual exercises. \nBelow offers a glimpse of what the emphasis will be for each of the sessions in this series:\nSession 1 – Creating a Sacred Space to Deconstruct & Querying the Purpose of Religion\nSession 2 – The Spiritual Nature of Being Human and Becoming\nSession 3 – Coming Home to Yourself\nSession 4 – Energizing Personal & Community Spiritual Practices\nSession 5 – Living Meaningfully in Spirit \nDATES: Mondays – 3/2\, 3/9\, 3/16\, 3/23\, 3/30/26 \nTIME: 6:30 – 8:30 PM ET \nCOST: Please choose the option that works best for you! (see registration link.) \nLOCATION: ZOOM \nREGISTRATION is required; please register here. \nIMPORTANT: You will receive an email from programming@wellforthejourney.org at least 24 hours in advance of the start of your program. If you are unable to find the email\, please check your SPAM or JUNK email folders. This email will include details to help you prepare for your program including any pertinent handouts\, location information\, and the ZOOM link for online programs. Please be sure you have received and read this email a minimum of 24 hours in advance of the start of the program. Thank you! \nFACILITATORS: Greg Cochran and Gordon Creamer \nFACILITATOR BIOS: \nGreg Cochran \nGreg has been the Executive Director at Well for the Journey since 2010. He is a graduate of Clemson University and Southern Seminary. Greg was Associate Pastor at Woodbrook Baptist Church serving from 1988-2022. He also is a program/retreat facilitator and a spiritual companion. He completed the Shalem Institute’s Spiritual Guidance Program (SGP) in 2009 and is currently a SGP staff member. He is also a mentor for Paseo’s “The Stewards of Mystery” Spiritual Guidance Program in Cottonwood\, Idaho. Greg and his wife\, Carole\, live in Baltimore. They have two children (26 and 24). Greg is a hiker\, photographer\, woodworker\, and loves being with family – and is always desiring to be open and listening for the invitation of the Spirit. \nGordon Creamer\nGordon Creamer\, creator of The Mission Bridge\, joined the Well’s Staff in July 2022 as Program Director. He has held leadership roles in healthcare programming and operations since 2001 at various Assisted Living\, Skilled Nursing\, and Hospice communities. He earned an MA in Spiritual & Pastoral Care from Loyola University and an MA in Theology from the Ecumenical Institute of St. Mary’s Seminary & University. He is currently a candidate for the Doctor of Ministry Program at the Ecumenical Institute.
URL:https://wellforthejourney.org/event/deconstructing-your-faith/2026-03-02/
LOCATION:ZOOM
CATEGORIES:Online Programs
ATTACH;FMTTYPE=image/png:https://wellforthejourney.org/wp-content/uploads/2025/10/2026-Deconstructing-Your-Faith-900-x-506-px.png
ORGANIZER;CN="Well%20for%20the%20Journey":MAILTO:lorie@wellforthejourney.org
END:VEVENT
END:VCALENDAR