BEGIN:VCALENDAR
VERSION:2.0
PRODID:-//Well for the Journey - ECPv5.16.4//NONSGML v1.0//EN
CALSCALE:GREGORIAN
METHOD:PUBLISH
X-ORIGINAL-URL:https://wellforthejourney.org
X-WR-CALDESC:Events for Well for the Journey
REFRESH-INTERVAL;VALUE=DURATION:PT1H
X-Robots-Tag:noindex
X-PUBLISHED-TTL:PT1H
BEGIN:VTIMEZONE
TZID:America/New_York
BEGIN:DAYLIGHT
TZOFFSETFROM:-0500
TZOFFSETTO:-0400
TZNAME:EDT
DTSTART:20260308T070000
END:DAYLIGHT
BEGIN:STANDARD
TZOFFSETFROM:-0400
TZOFFSETTO:-0500
TZNAME:EST
DTSTART:20261101T060000
END:STANDARD
END:VTIMEZONE
BEGIN:VEVENT
DTSTART;TZID=America/New_York:20260226T183000
DTEND;TZID=America/New_York:20260226T203000
DTSTAMP:20260422T135508
CREATED:20260205T194341Z
LAST-MODIFIED:20260205T194521Z
UID:23398-1772130600-1772137800@wellforthejourney.org
SUMMARY:FREE: Dementia Friends Information Session - Become Dementia Friendly in Your Community (Online Program)
DESCRIPTION:Millions of Americans are living with dementia\, and countless others are supporting them as unpaid family caregivers\, friends\, and neighbors. Chances are very good that you know\, love\, or are somehow connected to a person living with dementia and wonder how you can better engage with and support them. \nThrough our collaborative partnership with Baltimore County Department of Aging and its Dementia Friendly Initiative\, Well For The Journey is inviting you to register for a (free) online session aimed at providing an overall understanding of dementia. The Dementia Friends program focuses on five key messages that it believes everyone should know about dementia: \n· Dementia is not a normal part of aging\n· Dementia is caused by diseases of the brain\n· It is not just about losing your memory\n· It is possible to live well with dementia\n· There is more to the person than the dementia \nRelevant communication tips\, small acts that make a big difference\, and community resources for engaging individuals living with dementia will also be offered. Participants will receive a Dementia Friends workbook to utilize during and after the program. \nAs part of our mission to encourage and support spiritual well-being\, connection\, and community\, the Well has been involved with Baltimore County’s Dementia Friendly Initiative for several years and has offered a series of programs for individuals with dementia and their caregivers. The Well’s Program Director\, Gordon Creamer has been trained as a Dementia Friends Champion and Facilitator of this life-giving information session. If you identify as a care partner or are interested in becoming more aware of dementia as it continues to impact ever-growing numbers of families in America and globally\, please join Gordon for this free online session. \nTo learn more about Dementia Friends USA and their mission\, you can learn more here.  \nThis program is free\, but please register for planning purposes. Thank you! \nDATE: Thursday\, February 26\, 2026 \nTIME: 6:30 – 8:30PM \nCOST: FREE \nLOCATION: Zoom \nREGISTRATION is required; please register here. \nIMPORTANT: You will receive an email from programming@wellforthejourney.org at least 24 hours in advance of the start of your program. If you are unable to find the email\, please check your SPAM or JUNK email folders. This email will include details to help you prepare for your program including any pertinent handouts\, location information\, and the ZOOM link for online programs. Please be sure you have received and read this email a minimum of 24 hours in advance of the start of the program. Thank you!
URL:https://wellforthejourney.org/event/free-dementia-friends-information-session/
LOCATION:ZOOM
CATEGORIES:Online Programs
ATTACH;FMTTYPE=image/png:https://wellforthejourney.org/wp-content/uploads/2026/02/Dementia-Friends-Information-Session-900x506-1.png
ORGANIZER;CN="Well%20for%20the%20Journey":MAILTO:lorie@wellforthejourney.org
END:VEVENT
END:VCALENDAR