BEGIN:VCALENDAR
VERSION:2.0
PRODID:-//Well for the Journey - ECPv5.16.4//NONSGML v1.0//EN
CALSCALE:GREGORIAN
METHOD:PUBLISH
X-WR-CALNAME:Well for the Journey
X-ORIGINAL-URL:https://wellforthejourney.org
X-WR-CALDESC:Events for Well for the Journey
REFRESH-INTERVAL;VALUE=DURATION:PT1H
X-Robots-Tag:noindex
X-PUBLISHED-TTL:PT1H
BEGIN:VTIMEZONE
TZID:America/New_York
BEGIN:DAYLIGHT
TZOFFSETFROM:-0500
TZOFFSETTO:-0400
TZNAME:EDT
DTSTART:20260308T070000
END:DAYLIGHT
BEGIN:STANDARD
TZOFFSETFROM:-0400
TZOFFSETTO:-0500
TZNAME:EST
DTSTART:20261101T060000
END:STANDARD
END:VTIMEZONE
BEGIN:VEVENT
DTSTART;TZID=America/New_York:20260223T130000
DTEND;TZID=America/New_York:20260223T143000
DTSTAMP:20260422T135043
CREATED:20251125T175914Z
LAST-MODIFIED:20251125T175914Z
UID:23191-1771851600-1771857000@wellforthejourney.org
SUMMARY:Ending Well: Empowering Conversations About Death & Dying (Online Program)
DESCRIPTION:The natural circle of life reminds us that we will not live forever. While our culture resists talking about the taboo topic of death\, we can be empowered to live more fully through conversations\, reflections\, and making practical plans for death and dying. This series is designed to cultivate peace and empowerment (within us and our loved ones)\, while letting go of fear. \nMabeth Hudson is graciously offering this important and encouraging program again for the fourth time at the Well! Together you will explore stories and perspectives on death\, contemplate the things that are uniquely important for you to live and die well\, and gain practical tools and steps to prepare yourself and your loved ones. \nThrough didactic sharing of information with Mabeth\, personal reflection\, and small group conversations\, you will: \n\nBecome aware of the need to make choices about what is important to you as you face the final chapters\,\nFeel more confident about guiding your loved ones in your desires\,\nHave an action plan for conversations with loved ones and your medical team\,\nRealize you not alone\, and\,\nReduce fear and increase empowerment.\n\nThis program is designed for people in the second half of life\, anyone with loved ones nearing the end of their life\, and anyone who wishes to reduce their fear of death. Join us for this soul nourishing program and leave empowered to live and die more fully and peacefully in this sacred season of life. \nDATE: Mondays – 2/16\, 2/23\, and 3/2/26 \nTIME: 1:00 – 2:30 PM ET \nCOST: $100 \nLOCATION: ZOOM \nREGISTRATION is required; please register here. \nIMPORTANT: You will receive an email from programming@wellforthejourney.org at least 24 hours in advance of the start of your program. If you are unable to find the email\, please check your SPAM or JUNK email folders. This email will include details to help you prepare for your program including any pertinent handouts\, location information\, and the ZOOM link for online programs. Please be sure you have received and read this email a minimum of 24 hours in advance of the start of the program. Thank you! \nFACILITATOR: Mabeth Hudson \nFACILITATOR BIO: \nThrough her leadership and writing\, Mabeth encourages people to listen to their inner wisdom\, discover meaningful connections\, grow through challenges\, and better love and be loved in the nitty-gritty of everyday life. Mabeth is passionate about attending to the spiritual dimension of being human in a practical way\, as it impacts all of one’s relationships. For over 20 years\, she has been developing and leading programs for spiritual wellness\, personal growth\, and leadership development. Her workshops\, classes\, retreats\, and writing offer accessible tools to integrate into daily life. \nAfter practicing law for several years\, Mabeth entered a discernment process which led to the co-founding of Well for the Journey in 2002. Learn more about Mabeth at her website\, here.
URL:https://wellforthejourney.org/event/ending-well-empowering-conversations-about-death-dying-online-program-2/2026-02-23/
LOCATION:ZOOM
CATEGORIES:Online Programs
ATTACH;FMTTYPE=image/png:https://wellforthejourney.org/wp-content/uploads/2025/11/Ending-Well-2026-900x506-1.png
ORGANIZER;CN="Well%20for%20the%20Journey":MAILTO:lorie@wellforthejourney.org
END:VEVENT
END:VCALENDAR