BEGIN:VCALENDAR
VERSION:2.0
PRODID:-//Well for the Journey - ECPv5.16.4//NONSGML v1.0//EN
CALSCALE:GREGORIAN
METHOD:PUBLISH
X-WR-CALNAME:Well for the Journey
X-ORIGINAL-URL:https://wellforthejourney.org
X-WR-CALDESC:Events for Well for the Journey
REFRESH-INTERVAL;VALUE=DURATION:PT1H
X-Robots-Tag:noindex
X-PUBLISHED-TTL:PT1H
BEGIN:VTIMEZONE
TZID:America/New_York
BEGIN:DAYLIGHT
TZOFFSETFROM:-0500
TZOFFSETTO:-0400
TZNAME:EDT
DTSTART:20260308T070000
END:DAYLIGHT
BEGIN:STANDARD
TZOFFSETFROM:-0400
TZOFFSETTO:-0500
TZNAME:EST
DTSTART:20261101T060000
END:STANDARD
END:VTIMEZONE
BEGIN:VEVENT
DTSTART;TZID=America/New_York:20260211T100000
DTEND;TZID=America/New_York:20260211T113000
DTSTAMP:20260422T135049
CREATED:20251110T170345Z
LAST-MODIFIED:20251110T171002Z
UID:22997-1770804000-1770809400@wellforthejourney.org
SUMMARY:Women at the Well - The Next Step is Always Love (Online Program)
DESCRIPTION:How do we choose love as a response when it’s hard? How do we become a conduit of love no matter what we encounter? How do we radiate the energies of love when we face challenging people and situations?  Join us as we explore the tenderness\, grit\, and grace of love. Discussions will focus on the many facets of love and its universality\, opening to God’s love\, making peace with the past\, imagining forgiveness\, and radiating love. \nWomen at the Well is a spiritual companioning program open to all women seeking space to listen for\, become more aware of\, and respond to the Divine in their daily lives. This small group program includes time for reflection and sacred conversation in the community of other women on the journey. \nTwo sessions of this program will be offered – one In-Person at the Well and one Online. This registration is for the Online session. \nDATE: Wednesdays\, 1/21\, 1/28\, 2/4\, 2/11\, 2/18\, and 2/25/26 \nTIME: 10:00 – 11:30 AM \nCOST: $135 \nLOCATION: Zoom \nREGISTRATION is required; please register here. \nIMPORTANT: You will receive an email from programming@wellforthejourney.org at least 24 hours in advance of the start of your program. If you are unable to find the email\, please check your SPAM or JUNK email folders. This email will include details to help you prepare for your program including any pertinent handouts\, location information\, and the ZOOM link for online programs. Please be sure you have received and read this email a minimum of 24 hours in advance of the start of the program. Thank you! \nFACILITATORS: Mabeth Hudson and Terri Smith \nFACILITATOR BIOS:\nMabeth Hudson:\nThrough her leadership and writing\, Mabeth encourages people to listen to their inner wisdom\, discover meaningful connections\, grow through challenges\, and better love and be loved in the nitty-gritty of everyday life. Mabeth is passionate about attending to the spiritual dimension of being human in a practical way\, as it impacts all of one’s relationships. For over 20 years\, she has been developing and leading programs for spiritual wellness\, personal growth\, and leadership development. Her workshops\, classes\, retreats\, and writing offer accessible tools to integrate into daily life. \nAfter practicing law for several years\, Mabeth entered a discernment process which led to the co-founding of Well for the Journey in 2002. \nTerri Smith:\nTerri is a retired professional educator who has a special interest in encouraging spiritual growth by honoring the different learning styles with multi-sensory exercises and creative exploration. As one of the founders of the Well\, she develops curriculum and leads Women at the Well\, facilitator training\, and retreats. Terri believes that she is similar to many others in always seeking to enrich her spiritual growth and development. She is a member of the Presbyterian Church (USA) and the mother of three.
URL:https://wellforthejourney.org/event/women-at-the-well-the-next-step-is-always-love-online-program/2026-02-11/
LOCATION:ZOOM
CATEGORIES:Online Programs
ATTACH;FMTTYPE=image/png:https://wellforthejourney.org/wp-content/uploads/2025/11/Women-at-the-Well-The-Next-Step-is-Always-Love-Online-900x506-1.png
ORGANIZER;CN="Well%20for%20the%20Journey":MAILTO:lorie@wellforthejourney.org
END:VEVENT
BEGIN:VEVENT
DTSTART;TZID=America/New_York:20260211T183000
DTEND;TZID=America/New_York:20260211T203000
DTSTAMP:20260422T135049
CREATED:20251120T172823Z
LAST-MODIFIED:20251120T175844Z
UID:23155-1770834600-1770841800@wellforthejourney.org
SUMMARY:Dialogues in Discernment: Exploring Practices and Pathways for Navigating a Noisy World (Online Program)
DESCRIPTION:In a noisy world\, how can we quiet ourselves to listen deeply? In a world that offers many paths forward\, how can we know which is ours to take? In a world of deep divisions\, how can we contribute to greater unity? \nDiscernment is the spiritual art of deep listening and presence – of learning to notice what rings true\, what brings peace\, and what leads us toward love. It’s less about quick decisions and more about wise alignment – tuning in to the movement of Spirit\, our values\, and the quiet knowing within. \nOur religious and spiritual practices provide wisdom pathways for this kind of listening and living. How can we engage these practices in this time of great need\, and also learn from other traditions that may offer new perspectives for us? \nWe invite you to lean into a series of conversations with three of the Well’s beloved facilitators and wisdom seekers who will share their spiritual practices of discernment and create space for sharing our own practices and experiences in both individual and group discernment. What can we learn with and from one another to strengthen our contributions to a world of greater unity? \nAmy Schmaljohn will reflect on the practices that grew within and from the Quaker tradition. She’ll describe such practices as listening for the inward guide\, spiritual companioning\, clearness groups\, holding in the Light\, and a mode of group discernment called sense-of-the-meeting decision making. She came to Quakerism in her early 20s and has journeyed actively in a local Quaker Meeting and taught at a local Quaker school. \nEric Clayton will reflect on discernment practices inspired by the Ignatian tradition. Ignatian spirituality comes out of the lived experience and prayer life of St. Ignatius of Loyola\, a soldier-turned-Catholic-saint. In addition to founding the Jesuits\, St. Ignatius is best known for writing the Spiritual Exercises\, a four-week retreat in which a retreatant discovers more about themselves and who they are called to be in the world through careful reflection and decision-making. Through a series of imaginative meditations\, a deepening understanding of desires and discernment practices\, individuals are able to test the “spirits” and make good choices. The Ignatian tradition and its treasure trove of spiritual wisdom is open and available to all. Eric is an award-winning writer who has penned several books on the intersection of Ignatian spirituality and everyday life\, and he works in communications for the Jesuit Conference of Canada and the United States. \nLisa Beacham will reflect on discernment as a spiritual practice that belongs to everyone — not just those within a faith tradition. She’ll explore how discernment offers a way of listening and living with greater intention\, beyond ordinary decision-making. She’ll share a simple three-part process that helps us quiet the noise\, notice the movement of Spirit\, and take the next aligned\, courageous action with clarity and trust. Lisa is a certified spiritual director\, coach\, and workshop leader who helps accomplished\, spiritually minded professionals in mid-late career reconnect with purpose\, listen for inner wisdom\, and create meaningful and impactful next chapters in life and work. \nAll three of these sessions form a powerful and insightful series\, but we recognize that schedules can sometimes be challenging. Please feel free to join one\, two\, or all three sessions. \nDATE: Wednesdays\, 1/28\, 2/4\, and 2/11/26 \nTIME: 6:30 – 8:30 PM ET \nCOST: $125 for the Series or $45 per session \nLOCATION: ZOOM \nREGISTRATION is required; please register here. \nIMPORTANT: You will receive an email from programming@wellforthejourney.org at least 24 hours in advance of the start of your program. If you are unable to find the email\, please check your SPAM or JUNK email folders. This email will include details to help you prepare for your program including any pertinent handouts\, location information\, and the ZOOM link for online programs. Please be sure you have received and read this email a minimum of 24 hours in advance of the start of the program. Thank you! \n\nFACILITATORS: Amy Schmaljohn\, Eric Clayton\, & Lisa Beacham \nFACILITATOR BIOS:\nAmy Schmaljohn\nAmy enjoyed a 35 year career as a leader and teacher in both higher education and at Friends School of Baltimore (Quaker). Her classrooms offered students opportunities to explore world literature and art\, movements for nonviolent social transformation\, and the human experience of religion across global traditions. A member of Gunpowder Friends Meeting (Quaker)\, she leads contemplative spiritual retreats in the tradition of the Religious Society of Friends and offers spiritual deepening programs for seekers in the Baltimore region. She is enlivened by the sharing of our stories\, by the mystery and power of the written word\, and by her daily encounters with the natural world just outside her doorstep. Amy and her husband Alan\, a retired virologist\, live in northwestern Baltimore County\, where they steward seventeen acres of woodland\, meadow and streams that have been placed in the Maryland Environmental Trust and serve as a gathering space for those seeking immersive experiences in nature. \nEric A. Clayton\nEric is the award-winning author of three books on Ignatian spirituality: Finding Peace Here and Now: How Ignatian Spirituality Leads Us to Healing and Wholeness\, My Life with the Jedi: The Spirituality of Star Wars and Cannonball Moments: Telling Your Story\, Deepening Your Faith. He is also the deputy director for communications at the Jesuit Conference of Canada and the United States. Learn more at ericclaytonwrites.com and sign up for his Substack at ericclayton.substack.com. \n \nLisa Beacham\nLisa works with accomplished\, spiritually minded men and women in their mid to late career who are feeling empty\, burned out\, and know they cannot continue doing what they’re doing. She helps them to create a fulfilling and impactful career and life path that will carry them through to retirement. Even after making bold moves and big transitions multiple times in her life\, the decision at age 51 to leave a stable job\, volunteer for a year in Haiti\, and return to carve out a new career and life path was a challenging one. Listening for guidance\, practicing discernment\, and learning to embrace the support available for each step of the way has been transformative. Lisa creates a personalized approach for each of her clients based on their particular needs and goals. She draws upon an extensive set of practices and tools from her training and experience as a coach\, spiritual director\, Enneagram guide\, and lifelong seeker and learner. In addition\, she leads workshops and retreats.
URL:https://wellforthejourney.org/event/dialogues-in-discernment-online-program/2026-02-11/
LOCATION:ZOOM
CATEGORIES:Online Programs
ATTACH;FMTTYPE=image/png:https://wellforthejourney.org/wp-content/uploads/2025/11/dialogues-in-discernment-900x506-1.png
ORGANIZER;CN="Well%20for%20the%20Journey":MAILTO:lorie@wellforthejourney.org
END:VEVENT
END:VCALENDAR