BEGIN:VCALENDAR
VERSION:2.0
PRODID:-//Well for the Journey - ECPv5.16.4//NONSGML v1.0//EN
CALSCALE:GREGORIAN
METHOD:PUBLISH
X-WR-CALNAME:Well for the Journey
X-ORIGINAL-URL:https://wellforthejourney.org
X-WR-CALDESC:Events for Well for the Journey
REFRESH-INTERVAL;VALUE=DURATION:PT1H
X-Robots-Tag:noindex
X-PUBLISHED-TTL:PT1H
BEGIN:VTIMEZONE
TZID:America/New_York
BEGIN:DAYLIGHT
TZOFFSETFROM:-0500
TZOFFSETTO:-0400
TZNAME:EDT
DTSTART:20260308T070000
END:DAYLIGHT
BEGIN:STANDARD
TZOFFSETFROM:-0400
TZOFFSETTO:-0500
TZNAME:EST
DTSTART:20261101T060000
END:STANDARD
END:VTIMEZONE
BEGIN:VEVENT
DTSTART;TZID=America/New_York:20260120T120000
DTEND;TZID=America/New_York:20260120T130000
DTSTAMP:20260422T153630
CREATED:20251103T181413Z
LAST-MODIFIED:20260216T185809Z
UID:22951-1768910400-1768914000@wellforthejourney.org
SUMMARY:Break for Joy: Finding Moments of Joy Every Day (Online Program)
DESCRIPTION:“This was exactly what I hoped it would be – a literal break in the middle of a weekday to presence and experience joy. And then it was more! A wonderful experience shared with others and I left with some simple ways to bring more joy into my daily life. I look forward to next week’s break for joy.” ~Lisa \n“Keep doing what she is doing and how she is facilitating. It was very engaging! – A Participant \n\nIn a world that’s always changing and increasingly more demanding\, remembering the role of joy in our health and vitality is more important than ever. Join Sarah Hudson online for a mid-day break to explore simple\, practical exercises that help you tap into the joy that already lives within you. Along the way\, we will fill our “Joy Bag” with resiliency tools and mementos that are accessible to everyone. \nYou are welcome to register for all 8 joy-filled sessions – or simply join as your schedule allows. Each session will be focused around different joy practices such as gratitude\, gentle movement\, simple meditation\, journaling\, and music. The tentative themes for each week are listed below. Sarah is also open and flexible to shift based on the collective needs of the group gathered each week. \nSession 1: The Joy Bag + Welcome\nSession 2: Gratitude\nSession 3: Movement\nSession 4: Community + Relationship\nSession 5: Values\nSession 6: Relationships + Gratitude\nSession 7: Purpose\nSession 8: Remove + Closing \nPartner and group discussions will deepen the experience\, and you may choose to pair up with a “Joy Buddy” for encouragement and accountability between sessions. \nFeel free to enjoy your lunch in our online community while discovering how small\, intentional moments of joy can fit naturally into each and every day. Together\, we’ll lift our spirits and leave with renewed energy and practical ways to feel more joyful. When we show up for ourselves\, we are able to show up more impactfully for those around us. \n\n\n\nDATES: Tuesdays – 1/20\, 1/27\, 2/3\, 2/10\, 2/17\, 2/24\, 3/3\, 3/10/26 \nTIME: 12:00 – 1:00 PM ET \nCOST: $20 per session \nLOCATION: ZOOM \nREGISTRATION is required; please register here. \nIMPORTANT:\nYou will receive an email from programming@wellforthejourney.org at least 24 hours in advance of the start of your program. If you are unable to find the email\, please check your SPAM or JUNK email folders. This email will include details to help you prepare for your program including any pertinent handouts\, location information\, and the ZOOM link for online programs. Please be sure you have received and read this email a minimum of 24 hours in advance of the start of the program. Thank you! \nFACILITATOR: Sarah Hudson \nFACILITATOR BIO: \nSarah Hudson has a diverse skill set and a deep passion for personal growth and well-being. Through her Leadership Coaching + Wellness company\, Halcyon with Hudson\, she supports individuals on their journey towards self-discovery to live abundant\, empowered lives. In her practice\, Sarah leverages 11+ years in the corporate world\, a background as a CPA and Human Resources leader\, Leadership and Performance Coaching training through Brown University’s School of Professional Studies\, and 200H + 300H Yoga Teacher Training. She believes life is a continuous ebb and flow\, a journey of reconnecting to our highest selves and realigning with our values\, purpose\, and truth. Through coaching\, yoga\, and other modalities\, she aims to help guide clients back to this harmonious state\, helping them navigate life with greater inner intelligence\, fulfillment\, and ease.
URL:https://wellforthejourney.org/event/break-for-joy-finding-moments-of-joy-every-day-online-program/
LOCATION:ZOOM
CATEGORIES:Online Programs
ATTACH;FMTTYPE=image/png:https://wellforthejourney.org/wp-content/uploads/2025/11/Break-for-Joy-Finding-Moments-of-Joy-Every-Day.png
ORGANIZER;CN="Well%20for%20the%20Journey":MAILTO:lorie@wellforthejourney.org
END:VEVENT
END:VCALENDAR