BEGIN:VCALENDAR
VERSION:2.0
PRODID:-//Well for the Journey - ECPv5.16.4//NONSGML v1.0//EN
CALSCALE:GREGORIAN
METHOD:PUBLISH
X-WR-CALNAME:Well for the Journey
X-ORIGINAL-URL:https://wellforthejourney.org
X-WR-CALDESC:Events for Well for the Journey
REFRESH-INTERVAL;VALUE=DURATION:PT1H
X-Robots-Tag:noindex
X-PUBLISHED-TTL:PT1H
BEGIN:VTIMEZONE
TZID:America/New_York
BEGIN:DAYLIGHT
TZOFFSETFROM:-0500
TZOFFSETTO:-0400
TZNAME:EDT
DTSTART:20250309T070000
END:DAYLIGHT
BEGIN:STANDARD
TZOFFSETFROM:-0400
TZOFFSETTO:-0500
TZNAME:EST
DTSTART:20251102T060000
END:STANDARD
END:VTIMEZONE
BEGIN:VEVENT
DTSTART;TZID=America/New_York:20250813T130000
DTEND;TZID=America/New_York:20250813T150000
DTSTAMP:20260422T234520
CREATED:20250616T190615Z
LAST-MODIFIED:20250616T190615Z
UID:22199-1755090000-1755097200@wellforthejourney.org
SUMMARY:Jimmy Carter’s Living Faith Book Study (Online Program)
DESCRIPTION:“Somewhat to my own surprise\, this has become a book whose core is love – the love that is possible among those who are closely related\, among strangers allied by a common dream or faith\, and even between people who begin by despising each other but find a way to see the image of God in each other’s humanity.”   ~ President Jimmy Carter\, Living Faith \nPublished in 1996\, more than a decade and a half after he left the office of U.S. President\, Jimmy Carter wrote a spiritual memoir about the breadth of his experiences during his political service to America. Living Faith examines this journey while probing Carter’s encompassing life with significant depth—the kind sourced from a durable faith that brings perseverance\, hope\, and compassion to every moment and encounter. It is filled to overflowing with stories of people whose lives have touched his\, including some from the world stage and many others from more modest walks of life. It reflects tenderly on his learnings about other faiths\, the process involved in forgiveness\, and the inspiration he received from theologians and family friends alike on the values of leading with love and patience. \nPlease join us for this two-part book study in which we will explore the meaning of faith in Jimmy Carter’s life as captured in his memoir\, where he considers the values closest to his heart and the personal beliefs that have nurtured and sustained him throughout his entire life. In each session\, we will highlight various passages from Living Faith as a community of spiritual seekers\, with opportunities for personal reflection and group discussion. Accompanied by moments of prayer/meditation\, writing prompts\, and additional contemplative exercises\, participants will be invited to engage with the heart of President Carter’s distinct and empowering message while connecting it to their respective life journeys\, leadership roles\, and interpersonal relationships. Time will also be allotted for optional sharing about what faith and some of its most authentic expressions look like in present-day circumstances. \nTake a break from Summer’s heat and step into this opportunity for spiritual encouragement and refreshment from the life and perspective of one of our most admired Americans! You can join us from anywhere that is optimal for you as each session is being facilitated online. Reading Living Faith in advance of this book study is not required but is welcomed. And\, we think you will enjoy it! \nDATE: Wednesdays\, 8/13 and 8/20/25 \nTIME: 1:00 – 3:00 PM ET \nCOST: $45 \nREGISTRATION is required; please register here. \nLOCATION: ZOOM \nIMPORTANT: You will receive an email from programming@wellforthejourney.org at least 24 hours in advance of the start of your program. If you are unable to find the email\, please check your SPAM or JUNK email folders. This email will include details to help you prepare for your program including any pertinent handouts\, location information\, and the ZOOM link for online programs. Please be sure you have received and read this email a minimum of 24 hours in advance of the start of the program. Thank you! \nFACILITATOR: Gordon Creamer \nFACILITATOR BIO: \nGordon Creamer\, creator of the Mission Bridge\, currently serves as Program Director at Well for the Journey\, a spiritual wellness center in Lutherville\, Maryland. As a contemplative and creative builder\, he has held leadership roles in healthcare programming and operations since 2001 at various assisted living\, skilled nursing\, and hospice communities. He earned a Master of Arts in Spiritual & Pastoral Care from Loyola University and a Master of Arts in Theology from the Ecumenical Institute of St. Mary’s Seminary & University. Currently\, he is a candidate for the Doctor of Ministry Program at the Ecumenical Institute. \nGordon has facilitated a diversity of retreats and workshops that focus on creating opportunities for participants to explore and enhance their spirituality and well-being through various media and formats. He also participates as a peer group leader in the Shalem Institute for Spiritual Formation’s Transforming Community Program. His passions include uplifting the journey of adults\, individuals with memory impairment\, and members of the LGBTQ+ community\, as well as fostering support groups and programs for caregivers and those who are grieving losses. Trained as a spiritual director/companion\, end-of-life doula\, and Reiki practitioner\, Gordon welcomes all in discovering the spiritual life as a means of healing\, expanding\, and flourishing.
URL:https://wellforthejourney.org/event/jimmy-carters-living-faith-book-study-online-program/
LOCATION:ZOOM
CATEGORIES:Online Programs
ATTACH;FMTTYPE=image/png:https://wellforthejourney.org/wp-content/uploads/2025/06/Jimmy-Carters-Living-Faith-900x506-1.png
ORGANIZER;CN="Well%20for%20the%20Journey":MAILTO:lorie@wellforthejourney.org
END:VEVENT
END:VCALENDAR