BEGIN:VCALENDAR
VERSION:2.0
PRODID:-//Well for the Journey - ECPv5.16.4//NONSGML v1.0//EN
CALSCALE:GREGORIAN
METHOD:PUBLISH
X-WR-CALNAME:Well for the Journey
X-ORIGINAL-URL:https://wellforthejourney.org
X-WR-CALDESC:Events for Well for the Journey
REFRESH-INTERVAL;VALUE=DURATION:PT1H
X-Robots-Tag:noindex
X-PUBLISHED-TTL:PT1H
BEGIN:VTIMEZONE
TZID:America/New_York
BEGIN:DAYLIGHT
TZOFFSETFROM:-0500
TZOFFSETTO:-0400
TZNAME:EDT
DTSTART:20250309T070000
END:DAYLIGHT
BEGIN:STANDARD
TZOFFSETFROM:-0400
TZOFFSETTO:-0500
TZNAME:EST
DTSTART:20251102T060000
END:STANDARD
END:VTIMEZONE
BEGIN:VEVENT
DTSTART;TZID=America/New_York:20250429T130000
DTEND;TZID=America/New_York:20250429T150000
DTSTAMP:20260423T035727
CREATED:20241209T161404Z
LAST-MODIFIED:20241209T161404Z
UID:21350-1745931600-1745938800@wellforthejourney.org
SUMMARY:Ancient Myths & Their Wisdom for Contemporary Spiritual Seekers (Online Series)
DESCRIPTION:“A myth… is a metaphor for a mystery beyond human comprehension. It is a comparison that helps us understand\, by analogy\, some aspect of our mysterious selves. A myth\, in this way of thinking\, is not an untruth but a way of reaching a profound truth.” ~ Christopher Vogler \nThe word myth is saturated with numerous\, sometimes negative connotations in contemporary times. Often\, it is associated with being an untruth or a fabricated statement. Yet\, this recent usage of the word ignores the rich\, timeless value for which myths were originally conceived. Join us for this multi-part series that will explore some of the world’s prominent mythologies in their original light and the deep spiritual wisdom cradled within them. Excerpts of myths will be gathered from the Egyptian\, Greek\, Chinese\, Celtic and Native American traditions amongst other cultures. Additional sources will include Michael Meade’s Awakening the Soul and his long-running podcast series\, Living Myth. \nWithin each session\, there will be abundant opportunities to creatively experience these myths and connect with the parallels they offer to contemporary spiritual seekers and their personal journeys. Centralizing themes from each of the featured mythologies will be highlighted in each session of the series. While pertinent information related to respective myths will be provided\, also woven throughout each session will be time for contemplative silence and meditation\, journaling\, personal reflection\, and group discussion. Participants will emerge from the series with a timely and deepened awareness about the gifts and relevance of myths and the healing role they can serve in cultivating understanding and peace in our world today. \nMythological journeys will unfold along the following schedule as we journey with diversely different cultures and traditions from around the world: \n· January 28th – Egyptian Mythology\n· February 25th – Greek Mythology\n· March 25th – Chinese Mythology\n· April 29th (5th Tuesday) – Celtic Mythology\n· May 27th – Native American Mythologies \nPlease Note: Attendance is encouraged in each session of this series\, however\, interested participants can register for one\, a few\, or all programs depending on personal preference and availability. \nDATE: Tuesdays – 1/28\, 2/25\, 3/25\, 4/29\, and 5/27/25 \nTIME: 1:00 – 3:00 PM ET \nCOST: $200 for Series or $45 per Session \nREGISTRAION is required; please register here. \n CANCELLATION POLICY: Please read our cancellation policy\, here.  \nLOCATION: ZOOM \nIMPORTANT: You will receive an email from programming@wellforthejourney.org at least 24 hours in advance of the start of your program. If you are unable to find the email\, please check your SPAM or JUNK email folders. This email will include details to help you prepare for your program including any pertinent handouts\, location information\, and the ZOOM link for online programs. Please be sure you have received and read this email a minimum of 24 hours in advance of the start of the program. Thank you! \nFACILITATOR: Gordon Creamer \nFACILITATOR BIO: \nGordon Creamer\, creator of The Mission Bridge\, joined the Well’s Staff in July 2022 as Program Director. He has held leadership roles in healthcare programming and operations since 2001 at various Assisted Living\, Skilled Nursing\, and Hospice communities. He earned an MA in Spiritual & Pastoral Care from Loyola University and an MA in Theology from the Ecumenical Institute of St. Mary’s Seminary & University. He is currently a candidate for the Doctor of Ministry Program at the Ecumenical Institute.
URL:https://wellforthejourney.org/event/ancient-myths-their-wisdom-for-contemporary-spiritual-seekers-online-series/2025-04-29/
LOCATION:ZOOM
CATEGORIES:Online Programs
ATTACH;FMTTYPE=image/png:https://wellforthejourney.org/wp-content/uploads/2024/12/Ancient-Myths-900-x-506.png
ORGANIZER;CN="Well%20for%20the%20Journey":MAILTO:lorie@wellforthejourney.org
END:VEVENT
END:VCALENDAR