BEGIN:VCALENDAR
VERSION:2.0
PRODID:-//Well for the Journey - ECPv5.16.4//NONSGML v1.0//EN
CALSCALE:GREGORIAN
METHOD:PUBLISH
X-ORIGINAL-URL:https://wellforthejourney.org
X-WR-CALDESC:Events for Well for the Journey
REFRESH-INTERVAL;VALUE=DURATION:PT1H
X-Robots-Tag:noindex
X-PUBLISHED-TTL:PT1H
BEGIN:VTIMEZONE
TZID:America/New_York
BEGIN:DAYLIGHT
TZOFFSETFROM:-0500
TZOFFSETTO:-0400
TZNAME:EDT
DTSTART:20250309T070000
END:DAYLIGHT
BEGIN:STANDARD
TZOFFSETFROM:-0400
TZOFFSETTO:-0500
TZNAME:EST
DTSTART:20251102T060000
END:STANDARD
END:VTIMEZONE
BEGIN:VEVENT
DTSTART;TZID=America/New_York:20250412T083000
DTEND;TZID=America/New_York:20250412T110000
DTSTAMP:20260423T052843
CREATED:20240729T160451Z
LAST-MODIFIED:20240909T181145Z
UID:20700-1744446600-1744455600@wellforthejourney.org
SUMMARY:Group Spiritual Direction 2024-2025 with Cathy Rosensteel (In-Person & Online)
DESCRIPTION:Group Spiritual Direction is a process in which people gather together on a regular basis to assist one another in an ongoing awareness of God (Spirit\, Source\, Creator\, whatever your name is) in all of life. Participants in the group are seeking support for their responsiveness to God and they agree to support others in that same responsiveness. This contemplative approach to spiritual direction is grounded in the model that originated at the Shalem Institute for Spiritual Formation in Washington\, DC. . \nJoining the group is a deep commitment to one’s spiritual journey and to the other participants in the group. Three conditions are essential to the life of the group. Members must agree to: \n· Commit themselves to an honest relationship with God\, by whatever name called.\n· Participate wholeheartedly in the group process through consistent attendance and prayerful listening and response.\n· Open their spiritual journeys for consideration by others. \nThe group is limited to five participants and is facilitated by Cathy Rosensteel. The group will meet both in-person at the Well and on Zoom as noted below. \nCathy’s group has space for one new person this year. If you are feeling urged to give Group Spiritual Direction a try\, please call the Well at 410-296-9355. We will connect you with Cathy so that you can discuss your interest with her. \nDATES (In-Person at the Well): Saturdays – 9/28\, 10/12\, 11/9/24 and 3/8\, 4/12\, 5/10/25 \nDATES (Online via Zoom): Saturdays – 12/14/24 and 1/11\, 2/8/25 \nTIME: 8:30 – 11:00 AM \nCOST: $250 \nLOCATION: Well for the Journey – 120 W. Seminary Ave\, Lutherville-Timonium\, MD 21093 and ZOOM \nTO REGISTER:  Call the Well at 410-296-9355. We will connect you with Cathy so that you can discuss your interest with her to assure the group is a mutual fit. \nIMPORTANT: You will receive an email from lorie@wellforthejourney.org at least 24 hours in advance of the start of your program. If you are unable to find the email\, please check your SPAM or JUNK email folders. This email will include details to help you prepare for your program including any pertinent handouts\, location information\, and the ZOOM link for online programs. Please be sure you have received and read this email a minimum of 24 hours in advance of the start of the program. Thank you! \nFACILITATOR: Cathy Rosensteel \nFACILITATOR BIO:\nCathy facilitates group spiritual direction in the Shalem tradition at The Well. She has an M.A. in Spiritual Direction and Pastoral Care from Loyola University Maryland. Kindled by a week-long silent Ignatian retreat\, she developed a deep appreciation for silence and the Spiritual Exercises. Furthering her interest\, she completed the 19th Annotation of the Ignatian Spiritual Exercises in Everyday Life. Her work in this area includes leading retreats on finding silence in everyday living and walking the labyrinth. Through private practice\, Cathy is honored to provide individual spiritual direction in the Middle River and Towson areas. \nCathy’s background includes teaching teacher education candidates and directing the Special Education programs at Loyola University Maryland. She also had a notable career developing innovative programs for students with special needs\, as a teacher and administrator with the Baltimore City Public School System. \nDrawn to the outdoors\, Cathy treasures time at home on Seneca Creek with her husband and dog. She enjoys designing engraved affirmation stones\, gardening\, and swimming. Often\, she can be found happily reading\, near or in a body of water\, or just sitting\, very still.
URL:https://wellforthejourney.org/event/group-spiritual-direction-2024-2025-with-cathy-rosensteel-in-person-online/2025-04-12/
LOCATION:Well for the Journey (Note: Lutherville address)\, 120 W. Seminary Avenue\, Lutherville-Timonium\, MD\, 21093\, United States
CATEGORIES:In-Person Programs,Online Programs
ATTACH;FMTTYPE=image/png:https://wellforthejourney.org/wp-content/uploads/2024/07/Group-Spiritual-Direction-24-25-with-cathy-Rosensteel-900-x-506-1.png
ORGANIZER;CN="Well%20for%20the%20Journey":MAILTO:lorie@wellforthejourney.org
END:VEVENT
END:VCALENDAR