BEGIN:VCALENDAR
VERSION:2.0
PRODID:-//Well for the Journey - ECPv5.16.4//NONSGML v1.0//EN
CALSCALE:GREGORIAN
METHOD:PUBLISH
X-ORIGINAL-URL:https://wellforthejourney.org
X-WR-CALDESC:Events for Well for the Journey
REFRESH-INTERVAL;VALUE=DURATION:PT1H
X-Robots-Tag:noindex
X-PUBLISHED-TTL:PT1H
BEGIN:VTIMEZONE
TZID:America/New_York
BEGIN:DAYLIGHT
TZOFFSETFROM:-0500
TZOFFSETTO:-0400
TZNAME:EDT
DTSTART:20250309T070000
END:DAYLIGHT
BEGIN:STANDARD
TZOFFSETFROM:-0400
TZOFFSETTO:-0500
TZNAME:EST
DTSTART:20251102T060000
END:STANDARD
END:VTIMEZONE
BEGIN:VEVENT
DTSTART;TZID=America/New_York:20250409T100000
DTEND;TZID=America/New_York:20250409T113000
DTSTAMP:20260423T052935
CREATED:20250225T185259Z
LAST-MODIFIED:20250225T185259Z
UID:21940-1744192800-1744198200@wellforthejourney.org
SUMMARY:Women at the Well - Living Together in Community: Adventuring with Pooh & Friends (Online Program)
DESCRIPTION:Women at the Well is a spiritual companioning program open to all women seeking space to listen for\, become more aware of\, and respond to the Divine in their daily lives. This small group program includes time for reflection and sacred conversation in the community of other women on the journey. The theme for this spring’s Women at the Well is:  Living Together in Community: Adventuring with Pooh & Friends. \nGlean wisdom on living better together as we journey with Pooh and his unique friends from the Hundred Acre Wood. Join us for the spring Women at the Well session to lighten up with kindness for yourself and others. Each week\, we will pre-read a classic story from A.A. Milne’s Winnie-the-Pooh to see how these delightful stories connect with our own stories. We will also draw from Benjamin Hoff’s The Tao of Pooh\, exploring wisdom and quotes from the Tao Te Ching\, an ancient Chinese spiritual text. Initially offered in 2018\, this program has been updated and refreshed to provide new perspectives. \nWeekly themes include uniqueness\, friendship\, getting unstuck\, making time for reflection\, moving out of gloominess\, and doing small things with great love. \nWomen at the Well is a spiritual companioning program open to all women seeking space to listen for\, become more aware of\, and respond to the Divine in their daily lives. This small group program includes time for reflection and sacred conversation in the community of other women on the journey. \nTwo sessions of this program will be offered – one In-Person at the Well and one Online. This registration is for the Online session. \nDATE: Wednesdays\, 3/26\, 4/2\, 4/9\, 4/16\, 4/23\, 4/30/25 \nTIME: 10:00 – 11:30 AM \nCOST: $130 \nLOCATION: Zoom \nREGISTRATION is required: please register here. \nCANCELLATION / REFUND POLICY: Please read our cancellation / refund policy\, here. \nIMPORTANT: You will receive an email from programming@wellforthejourney.org at least 24 hours in advance of the start of your program. If you are unable to find the email\, please check your SPAM or JUNK email folders. This email will include details to help you prepare for your program including any pertinent handouts\, location information\, and the ZOOM link for online programs. Please be sure you have received and read this email a minimum of 24 hours in advance of the start of the program. Thank you! \nFACILITATORS: Mabeth Hudson & Terri Smith \nFACILITATOR BIOS:\nMabeth Hudson:\nThrough her leadership and writing\, Mabeth encourages people to listen to their inner wisdom\, discover meaningful connections\, grow through challenges\, and better love and be loved in the nitty-gritty of everyday life. Mabeth is passionate about attending to the spiritual dimension of being human in a practical way\, as it impacts all of one’s relationships. For over 20 years\, she has been developing and leading programs for spiritual wellness\, personal growth\, and leadership development. Her workshops\, classes\, retreats\, and writing offer accessible tools to integrate into daily life. \nAfter practicing law for several years\, Mabeth entered a discernment process which led to the co-founding of Well for the Journey in 2002. \nTerri Smith:\nTerri is a retired professional educator who has a special interest in encouraging spiritual growth by honoring the different learning styles with multi-sensory exercises and creative exploration. As one of the founders of the Well\, she develops curriculum and leads Women at the Well\, facilitator training\, and retreats. Terri believes that she is similar to many others in always seeking to enrich her spiritual growth and development. She is a member of the Presbyterian Church (USA) and the mother of three.
URL:https://wellforthejourney.org/event/women-at-the-well-living-together-in-community-adventuring-with-pooh-friends-online-program/2025-04-09/
LOCATION:ZOOM
CATEGORIES:Online Programs
ORGANIZER;CN="Well%20for%20the%20Journey":MAILTO:lorie@wellforthejourney.org
END:VEVENT
BEGIN:VEVENT
DTSTART;TZID=America/New_York:20250409T190000
DTEND;TZID=America/New_York:20250409T203000
DTSTAMP:20260423T052935
CREATED:20250115T163916Z
LAST-MODIFIED:20250115T163916Z
UID:21807-1744225200-1744230600@wellforthejourney.org
SUMMARY:Moon Cycle Spirituality: Connect with the Lunar Rhythms of Light and Dark for All Seasons of Life (3-part online series)
DESCRIPTION:We know the moon affects us and all creation on Mother Earth\, but have you ever wondered about the moon’s impact on your spirituality? \nIf yes\, we hope you can join us for this 3-part series that invites you to align your energy with the flow of the cosmos and explore how the lunar rhythms can enrich your spiritual journey! Through connecting with the lunar cycles\, you will learn to support the rhythms of your daily life as well as the seasons and cycles of your spirit by flowing with the waxing and waning of the Moon. \nIn our first gathering\, we will explore how the Moon’s monthly cycle unfolds and how we can connect it to other seasonal rhythms (such as light and dark\, summer and winter\, and the seasons of our own journeys). This gathering will also include some individual reflection and group sharing to help participants begin to apply the Moon phases to their own lives. \nIn our second and third gatherings\, we will deepen into the lunar cycle through ritual circles for the New and Full Moon. The New Moon circle will invite introspection and intention-setting based on the astrology of the moon cycle\, while the Full Moon circle will emphasize speaking one’s truth and releasing what one wishes to let go. You will have the opportunity to set an intention for the month at the New Moon\, watch it grow with the Moon’s light\, and celebrate and affirm what has transpired at the Full Moon! \nJoin Kathleen Neville-Shinn\, and other like-spirited seekers\, to reconnect with the ancient and eternal flow of the Moon as your guide for the rhythms of life. Kathleen’s programs at the Well always sell out so please don’t delay in registering! \n \n\nDATE: Wednesdays – 3/12\, 3/26\, and 4/9/25 \nTIME: 7:00 – 8:30 PM ET \nCOST: $100 \nLOCATION: ZOOM \nREGISTRATION is required; please register here. \nCANCELLATION / REFUND POLICY:  Please read our cancellation / refund policy here. \nIMPORTANT: You will receive an email from programming@wellforthejourney.org at least 24 hours in advance of the start of your program. If you are unable to find the email\, please check your SPAM or JUNK email folders. This email will include details to help you prepare for your program including any pertinent handouts\, location information\, and the ZOOM link for online programs. Please be sure you have received and read this email a minimum of 24 hours in advance of the start of the program. Thank you! \nFACILITATOR: Kathleen Neville-Shinn \nFACILITATOR BIO: \nKathleen Joan is a priestess of Brigid committed to the resurrection of the Divine Feminine\, especially among those with Christian ancestry. Formed as a spiritual seeker and leader in the Catholic Christian tradition\, she holds a dual Master’s degree in theology and ministry and has over 15 years’ ministry experience\, including directing retreats\, teaching classes on religion and spirituality\, and leading small group spiritual communities. Kathleen offers Reiki energy healing and spiritual direction for all genders\, as well as women’s circles and retreats\, to help you reclaim the sacredness of the wild Feminine within you and take your place in the Divine Mother’s return today – which is the healing and rebalancing of our world.
URL:https://wellforthejourney.org/event/moon-cycle-spirituality-connect-with-the-lunar-rhythms-of-light-and-dark-for-all-seasons-of-life-3-part-online-series/2025-04-09/
LOCATION:ZOOM
CATEGORIES:Online Programs
ATTACH;FMTTYPE=image/png:https://wellforthejourney.org/wp-content/uploads/2025/01/Moon-Cycle-Spirituality-900x-506.png
ORGANIZER;CN="Well%20for%20the%20Journey":MAILTO:lorie@wellforthejourney.org
END:VEVENT
END:VCALENDAR