BEGIN:VCALENDAR
VERSION:2.0
PRODID:-//Well for the Journey - ECPv5.16.4//NONSGML v1.0//EN
CALSCALE:GREGORIAN
METHOD:PUBLISH
X-ORIGINAL-URL:https://wellforthejourney.org
X-WR-CALDESC:Events for Well for the Journey
REFRESH-INTERVAL;VALUE=DURATION:PT1H
X-Robots-Tag:noindex
X-PUBLISHED-TTL:PT1H
BEGIN:VTIMEZONE
TZID:America/New_York
BEGIN:DAYLIGHT
TZOFFSETFROM:-0500
TZOFFSETTO:-0400
TZNAME:EDT
DTSTART:20250309T070000
END:DAYLIGHT
BEGIN:STANDARD
TZOFFSETFROM:-0400
TZOFFSETTO:-0500
TZNAME:EST
DTSTART:20251102T060000
END:STANDARD
END:VTIMEZONE
BEGIN:VEVENT
DTSTART;TZID=America/New_York:20250323T160000
DTEND;TZID=America/New_York:20250323T173000
DTSTAMP:20260423T065253
CREATED:20250206T185320Z
LAST-MODIFIED:20250206T185320Z
UID:21707-1742745600-1742751000@wellforthejourney.org
SUMMARY:Spring Seasonal Reset: Reconnecting with Your Heart's Intentions (Online Program)
DESCRIPTION:As Spring approaches\, nature invites us to embrace new beginnings and fresh energy. But how often do we pause to honor this shift in our own lives? You are invited to join Spiritual Director and Coach\, Lisa Beacham\, for a Spring Seasonal Reset to honor the emerging energy of Spring and the balancing power of the Equinox. Take time to reconnect with your heart and refocus on what’s most important as we prepare for the new season. \nThrough guided reflection and the Personal Heart Compass tool\, the Spring Seasonal Reset invites you to: \n· Reconnect with your heart and inner wisdom.\n· Release what no longer serves you from the past season.\n· Explore themes associated with Spring: clearing\, new beginnings and emerging.\n· Create intentions to ground and guide you in the season ahead.\n· Find clarity\, balance and renewed energy. \nLisa has been offering her popular retreat\, Returning to Center: A Kinder\, Gentler Start to the New Year\, at the Well for the past four years. Whether you have participated in this retreat or not\, you are most welcome to join Lisa’s Seasonal Resets. Three Seasonal Resets will be held this year as we transition from one season to the next. Each will provide an opportunity to pause\, let go of the previous season and welcome and create intentions for the incoming season. \nJoin a community of like-hearted individuals for this 90-minute online workshop designed to help you reset\, return to center\, and re-energize. Let’s welcome Spring with clarity\, balance\, and purpose. \nDATE: Sunday\, March 23\, 2025 \nTIME: 4:00 – 5:30 PM ET \nCOST: $35 \nREGISTRATION is required; please register here. \nCANCELLATION / REFUND POLICY: Please read our cancellation / refund policy\, here. \nLOCATION: ZOOM \nIMPORTANT: You will receive an email from programming@wellforthejourney.org at least 24 hours in advance of the start of your program. If you are unable to find the email\, please check your SPAM or JUNK email folders. This email will include details to help you prepare for your program including any pertinent handouts\, location information\, and the ZOOM link for online programs. Please be sure you have received and read this email a minimum of 24 hours in advance of the start of the program. Thank you! \nFACILITATOR: Lisa Beacham \nFACILITATOR BIO: \nLisa works with accomplished\, spiritually minded men and women in their mid to late career who are feeling empty\, burned out\, and know they cannot continue doing what they’re doing. She helps them to create a fulfilling and impactful career and life path that will carry them through to retirement. \nEven after making bold moves and big transitions multiple times in her life\, the decision at age 51 to leave a stable job\, volunteer for a year in Haiti\, and return to carve out a new career and life path was a challenging one. Listening for guidance\, practicing discernment\, and learning to embrace the support available for each step of the way has been transformative. \nLisa creates a personalized approach for each of her clients based on their particular needs and goals. She draws upon an extensive set of practices and tools from her training and experience as a coach\, spiritual director\, Enneagram guide\, and lifelong seeker and learner. In addition\, she leads workshops and retreats.
URL:https://wellforthejourney.org/event/spring-seasonal-reset-reconnecting-with-your-hearts-intentions-online-program/
LOCATION:ZOOM
CATEGORIES:Online Programs
ATTACH;FMTTYPE=image/png:https://wellforthejourney.org/wp-content/uploads/2025/02/Spring-Seasonal-Reset-900x-506.png
ORGANIZER;CN="Well%20for%20the%20Journey":MAILTO:lorie@wellforthejourney.org
END:VEVENT
END:VCALENDAR