BEGIN:VCALENDAR
VERSION:2.0
PRODID:-//Well for the Journey - ECPv5.16.4//NONSGML v1.0//EN
CALSCALE:GREGORIAN
METHOD:PUBLISH
X-ORIGINAL-URL:https://wellforthejourney.org
X-WR-CALDESC:Events for Well for the Journey
REFRESH-INTERVAL;VALUE=DURATION:PT1H
X-Robots-Tag:noindex
X-PUBLISHED-TTL:PT1H
BEGIN:VTIMEZONE
TZID:America/New_York
BEGIN:DAYLIGHT
TZOFFSETFROM:-0500
TZOFFSETTO:-0400
TZNAME:EDT
DTSTART:20250309T070000
END:DAYLIGHT
BEGIN:STANDARD
TZOFFSETFROM:-0400
TZOFFSETTO:-0500
TZNAME:EST
DTSTART:20251102T060000
END:STANDARD
END:VTIMEZONE
BEGIN:VEVENT
DTSTART;TZID=America/New_York:20250312T190000
DTEND;TZID=America/New_York:20250312T203000
DTSTAMP:20260423T065324
CREATED:20250115T163916Z
LAST-MODIFIED:20250227T163156Z
UID:21579-1741806000-1741811400@wellforthejourney.org
SUMMARY:Moon Cycle Spirituality: Connect with the Lunar Rhythms of Light and Dark for All Seasons of Life (3-part online series)
DESCRIPTION:We know the moon affects us and all creation on Mother Earth\, but have you ever wondered about the moon’s impact on your spirituality? \nIf yes\, we hope you can join us for this 3-part series that invites you to align your energy with the flow of the cosmos and explore how the lunar rhythms can enrich your spiritual journey! Through connecting with the lunar cycles\, you will learn to support the rhythms of your daily life as well as the seasons and cycles of your spirit by flowing with the waxing and waning of the Moon. \nIn our first gathering\, we will explore how the Moon’s monthly cycle unfolds and how we can connect it to other seasonal rhythms (such as light and dark\, summer and winter\, and the seasons of our own journeys). This gathering will also include some individual reflection and group sharing to help participants begin to apply the Moon phases to their own lives. \nIn our second and third gatherings\, we will deepen into the lunar cycle through ritual circles for the New and Full Moon. The New Moon circle will invite introspection and intention-setting based on the astrology of the moon cycle\, while the Full Moon circle will emphasize speaking one’s truth and releasing what one wishes to let go. You will have the opportunity to set an intention for the month at the New Moon\, watch it grow with the Moon’s light\, and celebrate and affirm what has transpired at the Full Moon! \nJoin Kathleen Neville-Shinn\, and other like-spirited seekers\, to reconnect with the ancient and eternal flow of the Moon as your guide for the rhythms of life. Kathleen’s programs at the Well always sell out so please don’t delay in registering! \n \n\nDATE: Wednesdays – 3/12\, 3/26\, and 4/9/25 \nTIME: 7:00 – 8:30 PM ET \nCOST: $100 \nLOCATION: ZOOM \nREGISTRATION is required; please register here. \nCANCELLATION / REFUND POLICY:  Please read our cancellation / refund policy here. \nIMPORTANT: You will receive an email from programming@wellforthejourney.org at least 24 hours in advance of the start of your program. If you are unable to find the email\, please check your SPAM or JUNK email folders. This email will include details to help you prepare for your program including any pertinent handouts\, location information\, and the ZOOM link for online programs. Please be sure you have received and read this email a minimum of 24 hours in advance of the start of the program. Thank you! \nFACILITATOR: Kathleen Neville-Shinn \nFACILITATOR BIO: \nKathleen Joan is a priestess of Brigid committed to the resurrection of the Divine Feminine\, especially among those with Christian ancestry. Formed as a spiritual seeker and leader in the Catholic Christian tradition\, she holds a dual Master’s degree in theology and ministry and has over 15 years’ ministry experience\, including directing retreats\, teaching classes on religion and spirituality\, and leading small group spiritual communities. Kathleen offers Reiki energy healing and spiritual direction for all genders\, as well as women’s circles and retreats\, to help you reclaim the sacredness of the wild Feminine within you and take your place in the Divine Mother’s return today – which is the healing and rebalancing of our world.
URL:https://wellforthejourney.org/event/moon-cycle-spirituality-connect-with-the-lunar-rhythms-of-light-and-dark-for-all-seasons-of-life-3-part-online-series/2025-03-12/
LOCATION:ZOOM
CATEGORIES:Online Programs
ATTACH;FMTTYPE=image/png:https://wellforthejourney.org/wp-content/uploads/2025/01/Moon-Cycle-Spirituality-900x-506.png
ORGANIZER;CN="Well%20for%20the%20Journey":MAILTO:lorie@wellforthejourney.org
END:VEVENT
END:VCALENDAR