BEGIN:VCALENDAR
VERSION:2.0
PRODID:-//Well for the Journey - ECPv5.16.4//NONSGML v1.0//EN
CALSCALE:GREGORIAN
METHOD:PUBLISH
X-WR-CALNAME:Well for the Journey
X-ORIGINAL-URL:https://wellforthejourney.org
X-WR-CALDESC:Events for Well for the Journey
REFRESH-INTERVAL;VALUE=DURATION:PT1H
X-Robots-Tag:noindex
X-PUBLISHED-TTL:PT1H
BEGIN:VTIMEZONE
TZID:America/New_York
BEGIN:DAYLIGHT
TZOFFSETFROM:-0500
TZOFFSETTO:-0400
TZNAME:EDT
DTSTART:20250309T070000
END:DAYLIGHT
BEGIN:STANDARD
TZOFFSETFROM:-0400
TZOFFSETTO:-0500
TZNAME:EST
DTSTART:20251102T060000
END:STANDARD
END:VTIMEZONE
BEGIN:VEVENT
DTSTART;TZID=America/New_York:20250227T183000
DTEND;TZID=America/New_York:20250227T200000
DTSTAMP:20260423T064923
CREATED:20241203T193737Z
LAST-MODIFIED:20250108T200003Z
UID:21367-1740681000-1740686400@wellforthejourney.org
SUMMARY:Deconstructing Your Faith\, Re-envisioning Your Spirituality (Online Program)
DESCRIPTION:Do you ever wonder about the image of God you are carrying?… Have you reached a place in your human journey where you are questioning the faith tradition that you have been a part of and its relevance to your spiritual journey?… Has the faith community/tradition you made a home in brought wounding\, confusion\, or despair to you in navigating the transitions and thresholds of your life?… \nIf the answer that arises within you as you ponder these questions is ‘yes\,’ please know that you are not alone. Current statistics reveal to us that in the United States the number of individuals who are affiliated with a particular faith tradition and/or denomination continue to decrease. Many people are questioning the role of religion in their lives and decidedly searching for alternatives to a worship community and complicated doctrines. \nIn this sacred pursuit\, more and more questions abound as humanity struggles to listen more deeply to God’s authentic voice in their everyday lives. In this listening\, many are discovering a divine invitation to pause and reconsider the meaning underlying this reality. Perhaps\, a way to move forward is to explore the possibility of deconstructing the faith we carry while re-envisioning the purpose and possibilities of what it is to live from our deeper spiritual identity. \nJoin Well for the Journey’s own Greg Cochran and Gordon Creamer for this online series\, where we will explore the pressing questions in our hearts around this wrestling with what it means to practice the faith we carry – or were taught to carry\, while welcoming a deep\, unfed spiritual hunger. At this critical juncture in our personal and collective histories\, intentionally spending time in this way is not only an act of great self-compassion and care\, it can also become an embodied expression of healing for others whom we are connected to in the world. While in the presence of sacred and safe community\, each session will invite participants to engage in a period of contemplative silence around an excerpt from various wisdom writings\, such as bell hooks\, Richard Rohr\, Barbara Brown Taylor\, and Brian McLaren among others. Also included will be opportunities for personal reflection\, journaling\, small and large group discussions\, and other creative spiritual exercises. \nBelow offers a glimpse of what the emphasis will be for each of the sessions in this series:\nSession 1 – Creating a Sacred Space to Deconstruct\nSession 2 – Querying the Purpose of Religion\nSession 3 – The Spiritual Nature of Being Human and Becoming\nSession 4 – Coming Home to Yourself\nSession 5 – Energizing Personal & Community Spiritual Practices\nSession 6 – Living Meaningfully in Spirit \nDATE: Thursdays\, 1/30\, 2/6\, 2/13\, 2/20\, 2/27\, 3/6/2025 \nTIME: 6:30 – 8:00 PM ET \nCOST: Registration cost for this program has three options – $200\, $175\, or $150. The Well is delighted to be able to offer this opportunity to you. Please select the ticket option that meets your financial abilities/needs at this time. Thank you! \nREGISTRATION is required; please register here. \n CANCELLATION POLICY: Please read our cancellation policy\, here.  \nLOCATION: ZOOM \nIMPORTANT: You will receive an email from programming@wellforthejourney.org at least 24 hours in advance of the start of your program. If you are unable to find the email\, please check your SPAM or JUNK email folders. This email will include details to help you prepare for your program including any pertinent handouts\, location information\, and the ZOOM link for online programs. Please be sure you have received and read this email a minimum of 24 hours in advance of the start of the program. Thank you! \nFACILITATORS: Greg Cochran and Gordon Creamer \nFACILITATOR BIOS:\nGreg Cochran\nGreg has been the Executive Director at Well for the Journey since 2010. He is a graduate of Clemson University and Southern Seminary. Greg was Associate Pastor at Woodbrook Baptist Church serving from 1988-2022. He also is a program/retreat facilitator and a spiritual companion. He completed the Shalem Institute’s Spiritual Guidance Program (SGP) in 2009 and is currently a SGP staff member. He is also a mentor for Paseo’s “The Stewards of Mystery” Spiritual Guidance Program in Cottonwood\, Idaho. Greg and his wife\, Carole\, live in Baltimore. They have two children (26 and 24). Greg is a hiker\, photographer\, woodworker\, and loves being with family – and is always desiring to be open and listening for the invitation of the Spirit. \nGordon Creamer\nGordon Creamer\, creator of The Mission Bridge\, joined the Well’s Staff in July 2022 as Program Director. He has held leadership roles in healthcare programming and operations since 2001 at various Assisted Living\, Skilled Nursing\, and Hospice communities. He earned an MA in Spiritual & Pastoral Care from Loyola University and an MA in Theology from the Ecumenical Institute of St. Mary’s Seminary & University. He is currently a candidate for the Doctor of Ministry Program at the Ecumenical Institute.
URL:https://wellforthejourney.org/event/deconstructing-your-faith-re-envisioning-your-spirituality-online-program/2025-02-27/
LOCATION:ZOOM
CATEGORIES:Online Programs
ATTACH;FMTTYPE=image/png:https://wellforthejourney.org/wp-content/uploads/2024/12/Deconstructing-Your-Faith-900-x-506.png
ORGANIZER;CN="Well%20for%20the%20Journey":MAILTO:lorie@wellforthejourney.org
END:VEVENT
BEGIN:VEVENT
DTSTART;TZID=America/New_York:20250227T190000
DTEND;TZID=America/New_York:20250227T193000
DTSTAMP:20260423T064923
CREATED:20250115T155716Z
LAST-MODIFIED:20250115T155716Z
UID:21575-1740682800-1740684600@wellforthejourney.org
SUMMARY:FREE Information Session - The Body Holds\, The Body Heals: Restoring Balance\, Releasing Stress\, Creating Calming Practices
DESCRIPTION:Are you going through your day feeling overly sensitive\, too reactive\, or easily triggered? Or do you feel numb most days\, simply going through the motions? By the time we are adults\, most of us are walking warriors\, holding stress and trauma in our bodies as we’ve had to survive and simply soldier on. In the short run\, our bodies may be able to do this\, holding it together to get through. However\, over time\, we cannot keep up this pace. Our bodies become overwhelmed as they hold our stressed experiences. They develop pain\, fatigue\, injury\, or disease\, as they can no longer repress all they have held over time. \nIf you are curious about somatic (body-focused) practices and rituals\, and want to learn a little more\, please join certified Somatic Experience Practitioner\, Emily Kearns\, for a FREE Information Session on Zoom. Emily will share a little about how the body holds and the power of the body to be a healing resource\, as well as what you can expect in her upcoming mini-retreats at the Well. You will also have an opportunity to ask questions. \nThere is no obligation to attend a retreat if you attend the Information Session. Give your body the gift of this half-hour to listen and learn\, and let your Curiosity be your Guide! \nThe Information Session is free and will be recorded. Please register so that we can send you the Zoom link. If you are unable to attend the information session\, we will be happy to send you the recording. \nDATE: Thursday\, February 27\, 2025 \nTIME: 7:00 – 7:30 PM \nCOST: FREE \nLOCATION: ZOOM \nRSVP:  RSVP is required to receive the Zoom link.  Please RSVP here. \nIMPORTANT: You will receive an email from programming@wellforthejourney.org at least 24 hours in advance of the start of your program. If you are unable to find the email\, please check your SPAM or JUNK email folders. This email will include details to help you prepare for your program including any pertinent handouts\, location information\, and the ZOOM link for online programs. Please be sure you have received and read this email a minimum of 24 hours in advance of the start of the program. Thank you! \nFACILITATOR: Emily Kearns \nFACILITATOR BIO:\nEmily Kearns is a Somatic Experience Practitioner (SEP) and Reiki Master\, working with individuals to help identify and reduce stress and trauma – anything that overwhelms – held in the body. Her caregiving experience with her parents\, who lived with dementia\, sensitized her to how the body holds and also\, how the body heals. Her Reiki volunteer work in Boston’s Spaulding Rehabilitation Hospital’s Integrative Medicine Program\, further awakened her to the power of the body to be a healing\, integrating resource. Emily earned her doctorate in sociology\, focusing her study and teaching on the body\, dance\, and ritual. She is also an installation artist creating two events: Dementia’s Way; and The Sacred Heart of Culture. She is founder of Revive and Thrive\, supporting caregivers/care partners as they experience loss\, grief\, joy\, and cultivate presence.
URL:https://wellforthejourney.org/event/free-information-session-the-body-holds-the-body-heals-restoring-balance-releasing-stress-creating-calming-practices/
LOCATION:ZOOM
CATEGORIES:Online Programs
ATTACH;FMTTYPE=image/png:https://wellforthejourney.org/wp-content/uploads/2025/01/The-Body-Holds-The-Body-Heals-FREE-Info-Session-Feb-2025-900-x-506.png
ORGANIZER;CN="Well%20for%20the%20Journey":MAILTO:lorie@wellforthejourney.org
END:VEVENT
END:VCALENDAR