BEGIN:VCALENDAR
VERSION:2.0
PRODID:-//Well for the Journey - ECPv5.16.4//NONSGML v1.0//EN
CALSCALE:GREGORIAN
METHOD:PUBLISH
X-ORIGINAL-URL:https://wellforthejourney.org
X-WR-CALDESC:Events for Well for the Journey
REFRESH-INTERVAL;VALUE=DURATION:PT1H
X-Robots-Tag:noindex
X-PUBLISHED-TTL:PT1H
BEGIN:VTIMEZONE
TZID:America/New_York
BEGIN:DAYLIGHT
TZOFFSETFROM:-0500
TZOFFSETTO:-0400
TZNAME:EDT
DTSTART:20250309T070000
END:DAYLIGHT
BEGIN:STANDARD
TZOFFSETFROM:-0400
TZOFFSETTO:-0500
TZNAME:EST
DTSTART:20251102T060000
END:STANDARD
END:VTIMEZONE
BEGIN:VEVENT
DTSTART;TZID=America/New_York:20250220T140000
DTEND;TZID=America/New_York:20250220T153000
DTSTAMP:20260423T082159
CREATED:20240521T183102Z
LAST-MODIFIED:20240521T183102Z
UID:20229-1740060000-1740065400@wellforthejourney.org
SUMMARY:Seven Sacred Pauses for Life's Daily Pilgrimage (Online Program Meeting Monthly)
DESCRIPTION:“All it takes is a simple\, sacred pause to get us in touch with the One who keeps vigil with us – the holy presence of so many names. Only you can name that which waits for you.” – Macrina Wiederkehr \nNo matter what spiritual path we follow\, we are all pilgrims together on each day’s journey. The details of our daily pilgrimage differ one from another\, but we all hope for a good day as we awake and move through the day with whatever joys and challenges await us. In her classic book\, Seven Sacred Pauses – Living Mindfully Through the Hours of the Day\, Macrina Wiederkehr invites us to embrace the rich tradition of consciously pausing at seven sacred moments of each day so that our daily passage through time is more of a sacred pilgrimage than one long To Do List. She encourages us to stay awake through the day\, “Each morning as I look out my window\, I want to be awake enough to say\, today I will remember to pause.” \nYou are invited to journey through the hours with spiritual companion and retreat leader\, Lorie Conway\, as we explore ways to practice pausing that recognize the busyness\, clutter\, noise\, and chaos that are rampant in our culture\, while gently encouraging us to be creators of our present moment. Each month will explore a different hour of the day and engage with contemplative spiritual practices that may be well suited for that time. We will use Wiederkehr’s book as a guide to the hours as we engage poetry\, music\, reflections\, and sacred text from an array of spiritual teachers and traditions. Please note\, it is not necessary to read the book as it is only one of many resources that will be utilized. \nOur monthly topics include:\n· September 26th – Introduction to Sacred Pausing\n· October 24th – The Awakening Hour – Dawn\n· November 21st – The Blessing Hour – Midmorning\n· December 12th – The Hour of Illumination – Midday\n· January 23rd – The Wisdom Hour – Midafternoon\n· February 20th – The Twilight Hour – Evening\n· March 20th – The Great Silence – Night\n· April 24th – The Night Watch – Midnight Until Dawn \nYou are welcome to join us for one\, many\, or all of the 8 monthly sessions. Lorie encourages you to join the first one\, if possible\, as it lays the groundwork for subsequent months. If you are unable to join the first one\, no worries! A handout will be provided to give you foundational information. \nDATES: Thursdays – 9/26\, 10/24\, 11/21\, 12/12/24\, and 1/23\, 2/20\, 3/20\, 4/24/25 \nTIME: 2:00 – 3:30 PM ET \nCOST: $35 per session or $250 for all 8 sessions \nREGISTRATION is required; please register here. \nCANCELLATION POLICY:  Please read our cancellation policy\, here. \nLOCATION: ZOOM \nIMPORTANT: You will receive an email from lorie@wellforthejourney.org at least 24 hours in advance of the start of your program. If you are unable to find the email\, please check your SPAM or JUNK email folders. This email will include details to help you prepare for your program including any pertinent handouts\, location information\, and the ZOOM link for online programs. Please be sure you have received and read this email a minimum of 24 hours in advance of the start of the program. Thank you! \nFACILITATOR: Lorie Conway \nFACILITATOR BIO: \nLorie has a passion for deep listening and accompanying others on their spiritual journeys through spiritual direction\, small groups\, and retreats. It is Lorie’s ongoing journey of transformation and spiritual discovery that fuels her desire to offer spiritual companioning to others. Lorie’s spirituality is rooted in the Christ tradition and is welcoming of the many paths and unique journeys enfolded within Divine Mystery. Lorie received her certificate in spiritual direction from the Kairos School of Spiritual Formation and holds a M.A. in Religion from Lancaster Theological Seminary and a M.A.S. in Behavioral Management & Human Resources from Johns Hopkins University. Lorie is delighted to serve both on the programming staff at the Well and as a program and retreat facilitator. She is also Director of the Shalem Institute’s Transforming Community: Leading Contemplative Spiritual Groups & Retreats program.
URL:https://wellforthejourney.org/event/seven-sacred-pauses-for-lifes-daily-pilgrimage-online-program-meeting-monthly/2025-02-20/
LOCATION:ZOOM
CATEGORIES:Online Programs
ATTACH;FMTTYPE=image/png:https://wellforthejourney.org/wp-content/uploads/2024/05/Seven-Sacred-Pauses-900x506-1.png
ORGANIZER;CN="Well%20for%20the%20Journey":MAILTO:lorie@wellforthejourney.org
END:VEVENT
BEGIN:VEVENT
DTSTART;TZID=America/New_York:20250220T183000
DTEND;TZID=America/New_York:20250220T200000
DTSTAMP:20260423T082159
CREATED:20241203T193737Z
LAST-MODIFIED:20250108T200003Z
UID:21366-1740076200-1740081600@wellforthejourney.org
SUMMARY:Deconstructing Your Faith\, Re-envisioning Your Spirituality (Online Program)
DESCRIPTION:Do you ever wonder about the image of God you are carrying?… Have you reached a place in your human journey where you are questioning the faith tradition that you have been a part of and its relevance to your spiritual journey?… Has the faith community/tradition you made a home in brought wounding\, confusion\, or despair to you in navigating the transitions and thresholds of your life?… \nIf the answer that arises within you as you ponder these questions is ‘yes\,’ please know that you are not alone. Current statistics reveal to us that in the United States the number of individuals who are affiliated with a particular faith tradition and/or denomination continue to decrease. Many people are questioning the role of religion in their lives and decidedly searching for alternatives to a worship community and complicated doctrines. \nIn this sacred pursuit\, more and more questions abound as humanity struggles to listen more deeply to God’s authentic voice in their everyday lives. In this listening\, many are discovering a divine invitation to pause and reconsider the meaning underlying this reality. Perhaps\, a way to move forward is to explore the possibility of deconstructing the faith we carry while re-envisioning the purpose and possibilities of what it is to live from our deeper spiritual identity. \nJoin Well for the Journey’s own Greg Cochran and Gordon Creamer for this online series\, where we will explore the pressing questions in our hearts around this wrestling with what it means to practice the faith we carry – or were taught to carry\, while welcoming a deep\, unfed spiritual hunger. At this critical juncture in our personal and collective histories\, intentionally spending time in this way is not only an act of great self-compassion and care\, it can also become an embodied expression of healing for others whom we are connected to in the world. While in the presence of sacred and safe community\, each session will invite participants to engage in a period of contemplative silence around an excerpt from various wisdom writings\, such as bell hooks\, Richard Rohr\, Barbara Brown Taylor\, and Brian McLaren among others. Also included will be opportunities for personal reflection\, journaling\, small and large group discussions\, and other creative spiritual exercises. \nBelow offers a glimpse of what the emphasis will be for each of the sessions in this series:\nSession 1 – Creating a Sacred Space to Deconstruct\nSession 2 – Querying the Purpose of Religion\nSession 3 – The Spiritual Nature of Being Human and Becoming\nSession 4 – Coming Home to Yourself\nSession 5 – Energizing Personal & Community Spiritual Practices\nSession 6 – Living Meaningfully in Spirit \nDATE: Thursdays\, 1/30\, 2/6\, 2/13\, 2/20\, 2/27\, 3/6/2025 \nTIME: 6:30 – 8:00 PM ET \nCOST: Registration cost for this program has three options – $200\, $175\, or $150. The Well is delighted to be able to offer this opportunity to you. Please select the ticket option that meets your financial abilities/needs at this time. Thank you! \nREGISTRATION is required; please register here. \n CANCELLATION POLICY: Please read our cancellation policy\, here.  \nLOCATION: ZOOM \nIMPORTANT: You will receive an email from programming@wellforthejourney.org at least 24 hours in advance of the start of your program. If you are unable to find the email\, please check your SPAM or JUNK email folders. This email will include details to help you prepare for your program including any pertinent handouts\, location information\, and the ZOOM link for online programs. Please be sure you have received and read this email a minimum of 24 hours in advance of the start of the program. Thank you! \nFACILITATORS: Greg Cochran and Gordon Creamer \nFACILITATOR BIOS:\nGreg Cochran\nGreg has been the Executive Director at Well for the Journey since 2010. He is a graduate of Clemson University and Southern Seminary. Greg was Associate Pastor at Woodbrook Baptist Church serving from 1988-2022. He also is a program/retreat facilitator and a spiritual companion. He completed the Shalem Institute’s Spiritual Guidance Program (SGP) in 2009 and is currently a SGP staff member. He is also a mentor for Paseo’s “The Stewards of Mystery” Spiritual Guidance Program in Cottonwood\, Idaho. Greg and his wife\, Carole\, live in Baltimore. They have two children (26 and 24). Greg is a hiker\, photographer\, woodworker\, and loves being with family – and is always desiring to be open and listening for the invitation of the Spirit. \nGordon Creamer\nGordon Creamer\, creator of The Mission Bridge\, joined the Well’s Staff in July 2022 as Program Director. He has held leadership roles in healthcare programming and operations since 2001 at various Assisted Living\, Skilled Nursing\, and Hospice communities. He earned an MA in Spiritual & Pastoral Care from Loyola University and an MA in Theology from the Ecumenical Institute of St. Mary’s Seminary & University. He is currently a candidate for the Doctor of Ministry Program at the Ecumenical Institute.
URL:https://wellforthejourney.org/event/deconstructing-your-faith-re-envisioning-your-spirituality-online-program/2025-02-20/
LOCATION:ZOOM
CATEGORIES:Online Programs
ATTACH;FMTTYPE=image/png:https://wellforthejourney.org/wp-content/uploads/2024/12/Deconstructing-Your-Faith-900-x-506.png
ORGANIZER;CN="Well%20for%20the%20Journey":MAILTO:lorie@wellforthejourney.org
END:VEVENT
END:VCALENDAR