BEGIN:VCALENDAR
VERSION:2.0
PRODID:-//Well for the Journey - ECPv5.16.4//NONSGML v1.0//EN
CALSCALE:GREGORIAN
METHOD:PUBLISH
X-ORIGINAL-URL:https://wellforthejourney.org
X-WR-CALDESC:Events for Well for the Journey
REFRESH-INTERVAL;VALUE=DURATION:PT1H
X-Robots-Tag:noindex
X-PUBLISHED-TTL:PT1H
BEGIN:VTIMEZONE
TZID:America/New_York
BEGIN:DAYLIGHT
TZOFFSETFROM:-0500
TZOFFSETTO:-0400
TZNAME:EDT
DTSTART:20250309T070000
END:DAYLIGHT
BEGIN:STANDARD
TZOFFSETFROM:-0400
TZOFFSETTO:-0500
TZNAME:EST
DTSTART:20251102T060000
END:STANDARD
END:VTIMEZONE
BEGIN:VEVENT
DTSTART;TZID=America/New_York:20250219T100000
DTEND;TZID=America/New_York:20250219T113000
DTSTAMP:20260423T082236
CREATED:20241202T173724Z
LAST-MODIFIED:20241202T184421Z
UID:21345-1739959200-1739964600@wellforthejourney.org
SUMMARY:Women at the Well - Radical Love: Exploring the Missing & Mystical Wisdom of Mary Magdalene (6-Part\, Online Series)
DESCRIPTION:Lost for more than 1500 years\, The Gospel of Mary is the only gospel written in the name of a woman\, and it reveals a radical love different from the understanding of Christianity that many know. We will explore the mystery\, misunderstandings\, and mysticism of Mary Magdalene to discover essential spiritual wisdom that can transform us and our world. \nOur weekly themes will include a fresh look at the mystery of Mary Magdalene\, claiming our authentic power\, recognizing the inherent goodness within every person\, listening to our inner wisdom\, seeing a new vision in the darkness\, and living with a radical\, transformative love for others and ourselves. We’ll draw from the contemporary writings of Meggan Watterson\, Cynthia Bourgeault\, and Karen King. \nWomen at the Well is a spiritual companioning program open to all women seeking space to listen for\, become more aware of\, and respond to the Divine in their daily lives. This small group program includes time for reflection and sacred conversation in the community of other women on the journey. \nTwo sessions of this program will be offered – one In-Person at the Well and one Online. This registration is for the Online session. \nDATE: Wednesdays\, 1/15\, 1/22\, 1/29\, 2/5\, 2/12\, and 2/19/25 \nTIME: 10:00 – 11:30 AM \nCOST: $130 \nLOCATION: Zoom \nREGISTRATION is required; please register here. \n CANCELLATION POLICY: Please read our cancellation policy\, here.  \nIMPORTANT: You will receive an email from programming@wellforthejourney.org at least 24 hours in advance of the start of your program. If you are unable to find the email\, please check your SPAM or JUNK email folders. This email will include details to help you prepare for your program including any pertinent handouts\, location information\, and the ZOOM link for online programs. Please be sure you have received and read this email a minimum of 24 hours in advance of the start of the program. Thank you! \nFACILITATORS: Mabeth Hudson & Terri Smith \nFACILITATOR BIOS: \nMabeth Hudson\nThrough her leadership and writing\, Mabeth encourages people to listen to their inner wisdom\, discover meaningful connections\, grow through challenges\, and better love and be loved in the nitty-gritty of everyday life. Mabeth is passionate about attending to the spiritual dimension of being human in a practical way\, as it impacts all of one’s relationships. For over 20 years\, she has been developing and leading programs for spiritual wellness\, personal growth\, and leadership development. Her workshops\, classes\, retreats\, and writing offer accessible tools to integrate into daily life. \nAfter practicing law for several years\, Mabeth entered a discernment process which led to the co-founding of Well for the Journey in 2002. \nTerri Smith\nTerri is a retired professional educator who has a special interest in encouraging spiritual growth by honoring the different learning styles with multi-sensory exercises and creative exploration. As one of the founders of the Well\, she develops curriculum and leads Women at the Well\, facilitator training\, and retreats. Terri believes that she is similar to many others in always seeking to enrich her spiritual growth and development. She is a member of the Presbyterian Church (USA) and the mother of three.
URL:https://wellforthejourney.org/event/women-at-the-well-radical-love-exploring-the-missing-mystical-wisdom-of-mary-magdalene-6-part-online-series/2025-02-19/
LOCATION:ZOOM
CATEGORIES:Online Programs
ATTACH;FMTTYPE=image/png:https://wellforthejourney.org/wp-content/uploads/2024/12/Women-at-the-Well-Mary-Magdalene-Online-900x506-1.png
ORGANIZER;CN="Well%20for%20the%20Journey":MAILTO:lorie@wellforthejourney.org
END:VEVENT
BEGIN:VEVENT
DTSTART;TZID=America/New_York:20250219T183000
DTEND;TZID=America/New_York:20250219T203000
DTSTAMP:20260423T082236
CREATED:20250128T190214Z
LAST-MODIFIED:20250128T190214Z
UID:21666-1739989800-1739997000@wellforthejourney.org
SUMMARY:Unscripted Awakening: The Art of Embracing New Experiences with Joy (Online Program)
DESCRIPTION:Could you use a little more joy in the midst of this cold winter and challenging time in our country? Join Certified Humor Professional\, Mary Jo Neil\, for this delightful and encouraging pop-up program! \nWe are creatures of habits – having many routines in our lives which help provide stability and efficiency. While these routines serve us well\, they can also inhibit us from exploring new opportunities\, growing and being curious. Step into a transformative evening of self-discovery where you notice and calm your fears\, build confidence\, and deepen your spiritual path using applied improvisation\, humor and visual creation. Through playful exercises\, lighthearted interactions and guided creative practices\, you’ll learn to be more curious and mindful. \nNo artistic or improvisation experience is necessary – just bring an open mind and a desire to connect with your inner child. By the end of the session\, you will leave with practical tools to embrace uncertainty\, channel your creative energy into your spiritual practice and cultivate a joy-filled connection with yourself and others. \nDATE: Wednesday\, February 19\, 2025 \nTIME: 6:30 – 8:30 PM ET \nCOST: $40 \nLOCATION: ZOOM \nREGISTRATION is required; please register here. \nCANCELLATION / REFUND POLICY:  Please read our policy\, here. \nIMPORTANT: You will receive an email from programming@wellforthejourney.org at least 24 hours in advance of the start of your program. If you are unable to find the email\, please check your SPAM or JUNK email folders. This email will include details to help you prepare for your program including any pertinent handouts\, location information\, and the ZOOM link for online programs. Please be sure you have received and read this email a minimum of 24 hours in advance of the start of the program. Thank you! \nFACILITATOR: Mary Jo Neil \nFACILITATOR BIO: \nMary Jo Neil began “Drawn Dialogue” as a creative means to spark collaboration\, communication and connection through humor and visuals\, in other words – she gets to play!! Having received a masters degree in art therapy from George Washington University she realized the power of visual language and has used imagery in nonprofit leadership trainings for for nearly two decades. Mary Jo then found the world of improv and humor as means to enhance individuals and teams. Mary Jo completed a 3 year program through the Association of Applied and Therapeutic Humor earning the designation of Certified Humor Professional (CHP). She lives with her husband in western Howard County and has been active in her children’s lives while they were growing up and now gets to play with grandkids.
URL:https://wellforthejourney.org/event/unscripted-awakening-the-art-of-embracing-new-experiences-with-joy-online-program/
LOCATION:ZOOM
CATEGORIES:Online Programs
ATTACH;FMTTYPE=image/png:https://wellforthejourney.org/wp-content/uploads/2025/01/Unscripted-Awakening-900x506-1.png
ORGANIZER;CN="Well%20for%20the%20Journey":MAILTO:lorie@wellforthejourney.org
END:VEVENT
END:VCALENDAR