BEGIN:VCALENDAR
VERSION:2.0
PRODID:-//Well for the Journey - ECPv5.16.4//NONSGML v1.0//EN
CALSCALE:GREGORIAN
METHOD:PUBLISH
X-WR-CALNAME:Well for the Journey
X-ORIGINAL-URL:https://wellforthejourney.org
X-WR-CALDESC:Events for Well for the Journey
REFRESH-INTERVAL;VALUE=DURATION:PT1H
X-Robots-Tag:noindex
X-PUBLISHED-TTL:PT1H
BEGIN:VTIMEZONE
TZID:America/New_York
BEGIN:DAYLIGHT
TZOFFSETFROM:-0500
TZOFFSETTO:-0400
TZNAME:EDT
DTSTART:20250309T070000
END:DAYLIGHT
BEGIN:STANDARD
TZOFFSETFROM:-0400
TZOFFSETTO:-0500
TZNAME:EST
DTSTART:20251102T060000
END:STANDARD
END:VTIMEZONE
BEGIN:VEVENT
DTSTART;TZID=America/New_York:20250217T130000
DTEND;TZID=America/New_York:20250217T143000
DTSTAMP:20260423T081845
CREATED:20241209T174801Z
LAST-MODIFIED:20250213T213217Z
UID:21383-1739797200-1739802600@wellforthejourney.org
SUMMARY:SOLD OUT: Ending Well - Empowering Conversations About Death & Dying (3-Part Online Series)
DESCRIPTION:This program has reached its capacity and is currently sold out. We have created a wait list just in case someone is unable to attend.  You may sign up for the wait list here.  \nThe natural circle of life reminds us that we will not live forever. While our culture resists talking about the taboo topic of death\, we can be empowered to live more fully through conversations\, reflections\, and making practical plans for death and dying. This series is designed to cultivate peace and empowerment (within us and our loved ones)\, while letting go of fear. \nMabeth Hudson is graciously offering this important and encouraging program again for the fourth time at the Well! Together you will explore stories and perspectives on death\, contemplate the things that are uniquely important for you to live and die well\, and gain practical tools and steps to prepare yourself and your loved ones. \nThrough didactic sharing of information with Mabeth\, personal reflection\, and small group conversations\, you will:\n· Become aware of the need to make choices about what is important to you as you face the final chapters\,\n· Feel more confident about guiding your loved ones in your desires\,\n· Have an action plan for conversations with loved ones and your medical team\,\n· Realize you not alone\, and\n· Reduce fear and increase empowerment. \nThis program is designed for people in the second half of life\, anyone with loved ones nearing the end of their life\, and anyone who wishes to reduce their fear of death. Join us for this soul nourishing program and leave empowered to live and die more fully and peacefully in this sacred season of life. \nDATE: Mondays\, 2/17\, 2/24\, and 3/3/2025 \nTIME: 1:00 – 2:30 PM ET \nCOST: $95 \nREGISTRATION has reached it’s capacity.  You may join the wait list here. \nCANCELLATION POLICY: Please read our cancellation policy\, here. \nLOCATION: ZOOM \nIMPORTANT: You will receive an email from programming@wellforthejourney.org at least 24 hours in advance of the start of your program. If you are unable to find the email\, please check your SPAM or JUNK email folders. This email will include details to help you prepare for your program including any pertinent handouts\, location information\, and the ZOOM link for online programs. Please be sure you have received and read this email a minimum of 24 hours in advance of the start of the program. Thank you! \nFACILITATOR: Mabeth Hudson \nFACILITATOR BIO: \nMabeth Hudson \nThrough her leadership and writing\, Mabeth encourages people to listen to their inner wisdom\, discover meaningful connections\, grow through challenges\, and better love and be loved in the nitty-gritty of everyday life. Mabeth is passionate about attending to the spiritual dimension of being human in a practical way\, as it impacts all of one’s relationships. For over 20 years\, she has been developing and leading programs for spiritual wellness\, personal growth\, and leadership development. Her workshops\, classes\, retreats\, and writing offer accessible tools to integrate into daily life.
URL:https://wellforthejourney.org/event/ending-well-empowering-conversations-about-death-dying-3-part-online-series/
LOCATION:ZOOM
CATEGORIES:Online Programs
ATTACH;FMTTYPE=image/png:https://wellforthejourney.org/wp-content/uploads/2024/12/Ending-Well-2025-900x506-1.png
ORGANIZER;CN="Well%20for%20the%20Journey":MAILTO:lorie@wellforthejourney.org
END:VEVENT
BEGIN:VEVENT
DTSTART;TZID=America/New_York:20250217T183000
DTEND;TZID=America/New_York:20250217T203000
DTSTAMP:20260423T081845
CREATED:20241016T191658Z
LAST-MODIFIED:20241017T171652Z
UID:21163-1739817000-1739824200@wellforthejourney.org
SUMMARY:Spiritual Autobiography: Exploring the Story of Your Life Through Writing (Online Program)
DESCRIPTION:A testimonial about this program from last year…\n“Amy is an excellent facilitator! I was amazed at all of the insights that surfaced during this writing process. The opportunity to both share and receive each other’s stories was very special. I would highly recommend this program to anyone wanting to deepen their spirituality and self-awareness while connecting with others.”  – Jean Anne Walsh \nIrish poet Pádraig Ó Tuama affirms that we are all “story full and lovely.” Indeed\, these stories are how we remember and share the journey of our lives\, both collectively and individually. \nThrough six sessions together-and reflective time between sessions-participants will respond through writing (and other creative modes) to gentle prompts that can help us to write the stories of our individual spiritual journeys. We all live this spiritual journey every day\, whether or not we are grounded in a specific religious tradition. Indeed\, most wisdom traditions affirm that we live this spiritual-or inward-journey in the daily moments that we need to take time to notice. By writing with and for other attentive writers\, we will honor the things that make us human together and share\, as Ó Tuama invites “the things that do not fade: generosity\, truth-telling\, silence\, respect\, and love.” \nOur times together will be for listening to one another’s stories. We gather not to offer feedback or critique (as you might find in a traditional writing workshop) or to teach one another how to write a spiritual autobiography. We gather to receive the gifts that flow through each other’s generous sharing of our lives\, and to open ourselves to our own story. \nWe are thrilled to welcome back Amy Schmaljohn for another session of this meaningful and inspiring program. Join Amy and others to remember\, write\, and share the journey that is uniquely your own. No previous writing experience is required! \nDATE: Mondays\, 1/13\, 1/20\, 1/27\, 2/3\, 2/10\, and 2/17/25 \nTIME: 6:30 – 8:30 PM ET \nCOST: Early Bird Discount (purchased prior to 12/1/24) – $150; Regular Cost (purchased 12/2/24 and after) – $170 \nLOCATION: ZOOM \nREGISTRATION is required; please register here. \nCANCELLATION POLICY:  Please read our cancellation policy\, here. \nIMPORTANT: You will receive an email from lorie@wellforthejourney.org at least 24 hours in advance of the start of your program. If you are unable to find the email\, please check your SPAM or JUNK email folders. This email will include details to help you prepare for your program including any pertinent handouts\, location information\, and the ZOOM link for online programs. Please be sure you have received and read this email a minimum of 24 hours in advance of the start of the program. Thank you! \nFACILITATOR: Amy Schmaljohn \nFACILITATOR BIO: \nAmy Schmaljohn enjoyed a 35 year career as a leader and teacher in both higher education and at Friends School of Baltimore (Quaker). Her classrooms offered students opportunities to explore world literature and art\, movements for nonviolent social transformation\, and the human experience of religion across global traditions. A member of Gunpowder Friends Meeting (Quaker)\, she leads contemplative spiritual retreats in the tradition of the Religious Society of Friends and offers spiritual deepening programs for seekers in the Baltimore region. She is enlivened by the sharing of our stories\, by the mystery and power of the written word\, and by her daily encounters with the natural world just outside her doorstep. Amy and her husband Alan\, a retired virologist\, live in northwestern Baltimore County\, where they steward seventeen acres of woodland\, meadow and streams that have been placed in the Maryland Environmental Trust and serve as a gathering space for those seeking immersive experiences in nature.
URL:https://wellforthejourney.org/event/spiritual-autobiography-exploring-the-story-of-your-life-through-writing-online-program-2/2025-02-17/
LOCATION:ZOOM
CATEGORIES:Online Programs
ATTACH;FMTTYPE=image/png:https://wellforthejourney.org/wp-content/uploads/2024/10/Spiritual-Autobiography-Jan-2025-900-x-506.png
ORGANIZER;CN="Well%20for%20the%20Journey":MAILTO:lorie@wellforthejourney.org
END:VEVENT
END:VCALENDAR