BEGIN:VCALENDAR
VERSION:2.0
PRODID:-//Well for the Journey - ECPv5.16.4//NONSGML v1.0//EN
CALSCALE:GREGORIAN
METHOD:PUBLISH
X-ORIGINAL-URL:https://wellforthejourney.org
X-WR-CALDESC:Events for Well for the Journey
REFRESH-INTERVAL;VALUE=DURATION:PT1H
X-Robots-Tag:noindex
X-PUBLISHED-TTL:PT1H
BEGIN:VTIMEZONE
TZID:America/New_York
BEGIN:DAYLIGHT
TZOFFSETFROM:-0500
TZOFFSETTO:-0400
TZNAME:EDT
DTSTART:20250309T070000
END:DAYLIGHT
BEGIN:STANDARD
TZOFFSETFROM:-0400
TZOFFSETTO:-0500
TZNAME:EST
DTSTART:20251102T060000
END:STANDARD
END:VTIMEZONE
BEGIN:VEVENT
DTSTART;TZID=America/New_York:20250123T130000
DTEND;TZID=America/New_York:20250123T150000
DTSTAMP:20260423T095949
CREATED:20241017T181120Z
LAST-MODIFIED:20241017T181120Z
UID:21183-1737637200-1737644400@wellforthejourney.org
SUMMARY:Mary Oliver Mystic Series 2025 (Online Program)
DESCRIPTION:“Ten times a day something happens to me like this – some strengthening throb of amazement – some good sweet empathic ping and swell. This is the first\, the wildest and the wisest thing I know: that the soul exists and is built entirely out of attentiveness.” – Mary Oliver \nMary Oliver\, a modern mystic\, and possibly the most beloved American poet of our time\, is best known for her compassionate\, attentive regard for the natural world. Amidst the harshness of life\, Oliver found sanctuary and hope in nature and generously shared her discoveries with us in simple\, beautiful language that stirs both the heart and the imagination. Oliver published over 25 books of poetry and prose and received many honors including the National Book Award and the Pulitzer Prize for Poetry. \nCome join us as Oliver’s words of wisdom invite us into a portal of hope\, exploration\, and self-discovery all through her mystical eyes and ears\, mind and heart. \nOne of our most popular programs\, this three-part series will include contemplative reading of a selection of Oliver’s poems\, writing prompts\, reflection\, and small group discussion. Join us for one\, two\, or all three sessions as we spend time with Mary Oliver’s poems\, listening to one another as her wisdom speaks to us. \nDATE: Thursdays – 1/9\, 1/16\, 1/23/25 \nTIME: 1:00 – 3:00 PM ET \nCOST: $100 for all three sessions or $40 per session \nLOCATION: ZOOM \nREGISTRATION is required; please register here. \nCANCELLATION POLICY: Please read our cancellation policy\, here. \nIMPORTANT: You will receive an email from lorie@wellforthejourney.org at least 24 hours in advance of the start of your program. If you are unable to find the email\, please check your SPAM or JUNK email folders. This email will include details to help you prepare for your program including any pertinent handouts\, location information\, and the ZOOM link for online programs. Please be sure you have received and read this email a minimum of 24 hours in advance of the start of the program. Thank you! \nFACILITATORS: Greg Cochran and Sr. Kathy McNany \nFACILITATOR BIOS:\nGreg Cochran:\nGreg has been the Executive Director at Well for the Journey since 2010. He is a graduate of Clemson University and Southern Seminary. Greg was Associate Pastor at Woodbrook Baptist Church serving from 1988-2022. He also is a program/retreat facilitator and a spiritual companion. He completed the Shalem Institute’s Spiritual Guidance Program (SGP) in 2009 and is currently a SGP staff member. He is also a mentor for Paseo’s “The Stewards of Mystery” Spiritual Guidance Program in Cottonwood\, Idaho. Greg and his wife\, Carole\, live in Baltimore. They have two children (26 and 24). Greg is a hiker\, photographer\, woodworker\, and loves being with family – and is always desiring to be open and listening for the invitation of the Spirit. \nKathy McNany\, OSB\nSr. Kathy is the Prioress of the Benedictine Sisters of Emmanuel Monastery. She also serves the community as Liturgist and Director of Communications. Kathy is a Spiritual Director\, Retreat Director\, leader of programs in prayer and spirituality at the monastery and in the broader community and works with other Benedictine communities in discernment facilitation and direction setting for the future.
URL:https://wellforthejourney.org/event/mary-oliver-mystic-series-2025-online-program/2025-01-23/
LOCATION:ZOOM
CATEGORIES:Online Programs
ORGANIZER;CN="Well%20for%20the%20Journey":MAILTO:lorie@wellforthejourney.org
END:VEVENT
BEGIN:VEVENT
DTSTART;TZID=America/New_York:20250123T140000
DTEND;TZID=America/New_York:20250123T153000
DTSTAMP:20260423T095949
CREATED:20240521T183102Z
LAST-MODIFIED:20240521T183102Z
UID:20228-1737640800-1737646200@wellforthejourney.org
SUMMARY:Seven Sacred Pauses for Life's Daily Pilgrimage (Online Program Meeting Monthly)
DESCRIPTION:“All it takes is a simple\, sacred pause to get us in touch with the One who keeps vigil with us – the holy presence of so many names. Only you can name that which waits for you.” – Macrina Wiederkehr \nNo matter what spiritual path we follow\, we are all pilgrims together on each day’s journey. The details of our daily pilgrimage differ one from another\, but we all hope for a good day as we awake and move through the day with whatever joys and challenges await us. In her classic book\, Seven Sacred Pauses – Living Mindfully Through the Hours of the Day\, Macrina Wiederkehr invites us to embrace the rich tradition of consciously pausing at seven sacred moments of each day so that our daily passage through time is more of a sacred pilgrimage than one long To Do List. She encourages us to stay awake through the day\, “Each morning as I look out my window\, I want to be awake enough to say\, today I will remember to pause.” \nYou are invited to journey through the hours with spiritual companion and retreat leader\, Lorie Conway\, as we explore ways to practice pausing that recognize the busyness\, clutter\, noise\, and chaos that are rampant in our culture\, while gently encouraging us to be creators of our present moment. Each month will explore a different hour of the day and engage with contemplative spiritual practices that may be well suited for that time. We will use Wiederkehr’s book as a guide to the hours as we engage poetry\, music\, reflections\, and sacred text from an array of spiritual teachers and traditions. Please note\, it is not necessary to read the book as it is only one of many resources that will be utilized. \nOur monthly topics include:\n· September 26th – Introduction to Sacred Pausing\n· October 24th – The Awakening Hour – Dawn\n· November 21st – The Blessing Hour – Midmorning\n· December 12th – The Hour of Illumination – Midday\n· January 23rd – The Wisdom Hour – Midafternoon\n· February 20th – The Twilight Hour – Evening\n· March 20th – The Great Silence – Night\n· April 24th – The Night Watch – Midnight Until Dawn \nYou are welcome to join us for one\, many\, or all of the 8 monthly sessions. Lorie encourages you to join the first one\, if possible\, as it lays the groundwork for subsequent months. If you are unable to join the first one\, no worries! A handout will be provided to give you foundational information. \nDATES: Thursdays – 9/26\, 10/24\, 11/21\, 12/12/24\, and 1/23\, 2/20\, 3/20\, 4/24/25 \nTIME: 2:00 – 3:30 PM ET \nCOST: $35 per session or $250 for all 8 sessions \nREGISTRATION is required; please register here. \nCANCELLATION POLICY:  Please read our cancellation policy\, here. \nLOCATION: ZOOM \nIMPORTANT: You will receive an email from lorie@wellforthejourney.org at least 24 hours in advance of the start of your program. If you are unable to find the email\, please check your SPAM or JUNK email folders. This email will include details to help you prepare for your program including any pertinent handouts\, location information\, and the ZOOM link for online programs. Please be sure you have received and read this email a minimum of 24 hours in advance of the start of the program. Thank you! \nFACILITATOR: Lorie Conway \nFACILITATOR BIO: \nLorie has a passion for deep listening and accompanying others on their spiritual journeys through spiritual direction\, small groups\, and retreats. It is Lorie’s ongoing journey of transformation and spiritual discovery that fuels her desire to offer spiritual companioning to others. Lorie’s spirituality is rooted in the Christ tradition and is welcoming of the many paths and unique journeys enfolded within Divine Mystery. Lorie received her certificate in spiritual direction from the Kairos School of Spiritual Formation and holds a M.A. in Religion from Lancaster Theological Seminary and a M.A.S. in Behavioral Management & Human Resources from Johns Hopkins University. Lorie is delighted to serve both on the programming staff at the Well and as a program and retreat facilitator. She is also Director of the Shalem Institute’s Transforming Community: Leading Contemplative Spiritual Groups & Retreats program.
URL:https://wellforthejourney.org/event/seven-sacred-pauses-for-lifes-daily-pilgrimage-online-program-meeting-monthly/2025-01-23/
LOCATION:ZOOM
CATEGORIES:Online Programs
ATTACH;FMTTYPE=image/png:https://wellforthejourney.org/wp-content/uploads/2024/05/Seven-Sacred-Pauses-900x506-1.png
ORGANIZER;CN="Well%20for%20the%20Journey":MAILTO:lorie@wellforthejourney.org
END:VEVENT
END:VCALENDAR