BEGIN:VCALENDAR
VERSION:2.0
PRODID:-//Well for the Journey - ECPv5.16.4//NONSGML v1.0//EN
CALSCALE:GREGORIAN
METHOD:PUBLISH
X-ORIGINAL-URL:https://wellforthejourney.org
X-WR-CALDESC:Events for Well for the Journey
REFRESH-INTERVAL;VALUE=DURATION:PT1H
X-Robots-Tag:noindex
X-PUBLISHED-TTL:PT1H
BEGIN:VTIMEZONE
TZID:America/New_York
BEGIN:DAYLIGHT
TZOFFSETFROM:-0500
TZOFFSETTO:-0400
TZNAME:EDT
DTSTART:20240310T070000
END:DAYLIGHT
BEGIN:STANDARD
TZOFFSETFROM:-0400
TZOFFSETTO:-0500
TZNAME:EST
DTSTART:20241103T060000
END:STANDARD
END:VTIMEZONE
BEGIN:VEVENT
DTSTART;TZID=America/New_York:20241125T190000
DTEND;TZID=America/New_York:20241125T203000
DTSTAMP:20260423T130133
CREATED:20240822T164158Z
LAST-MODIFIED:20240822T165309Z
UID:20907-1732561200-1732566600@wellforthejourney.org
SUMMARY:Thanksgiving Gifts: A Praying in Color Meditation with the Poetry of Mary Oliver (Online Program)
DESCRIPTION:“Let God and the world know you are grateful” ~ Mary Oliver \nGratitude is a theme that weaves throughout Mary Oliver’s poetry. She invites\, cajoles\, and sometimes demands that we pause\, notice\, wonder\, and respond to the myriad gifts right before our eyes…and then tell someone about them! Her poetry calls us to a grateful life. \nThanksgiving is a day set apart in our culture to notice and be grateful for the gifts in our lives. For some\, this holiday is so full of family\, friends\, turkey\, football\, and pumpkin pie\, that it can be challenging to find a moment to reflect on those gifts. For others\, the holiday holds grief\, loneliness\, and challenges that make gratitude seem elusive in the midst of it all. \nYou are invited to start your Thanksgiving week in a guided and contemplative meditation where we will intentionally pause to notice and let gratitude be our response. We will listen deeply to Mary’s words and spend unhurried time in reflection using the spiritual practice of Praying in Color. There will also be time to share our reflections with one another – to tell someone about what we noticed – in the sacred community of our group. \nNo prior experience or artistic skills are required to engage in this practice. Praying in Color is simply doodling with color as a way of helping us pause\, notice\, and reflect. All you need is white paper and colorful writing utensils such as colored pencils\, markers\, crayons\, or pens. Lorie will guide every step of this simple and meaningful spiritual practice. \nDATE: Monday\, November 25\, 2024 \nTIME: 7:00 – 8:30 PM ET \nCOST: $20 \nLOCATION: ZOOM \nREGISTRATION is required; please register here. \nCANCELLATION POLICY:  Please read our cancellation policy\, here. \nIMPORTANT: You will receive an email from lorie@wellforthejourney.org at least 24 hours in advance of the start of your program. If you are unable to find the email\, please check your SPAM or JUNK email folders. This email will include details to help you prepare for your program including any pertinent handouts\, location information\, and the ZOOM link for online programs. Please be sure you have received and read this email a minimum of 24 hours in advance of the start of the program. Thank you! \nFACILITATOR: Lorie Conway \nFACILITATOR BIO: \nLorie has a passion for deep listening and accompanying others on their spiritual journeys through spiritual direction\, small groups\, and retreats. It is Lorie’s ongoing journey of transformation and spiritual discovery that fuels her desire to offer spiritual companioning to others. Lorie’s spirituality is rooted in the Christ tradition and is welcoming of the many paths and unique journeys enfolded within Divine Mystery. Lorie received her certificate in spiritual direction from the Kairos School of Spiritual Formation and holds a M.A. in Religion from Lancaster Theological Seminary and a M.A.S. in Behavioral Management & Human Resources from Johns Hopkins University. Lorie is delighted to serve both on the programming staff at the Well and as a program and retreat facilitator. She is also Director of the Shalem Institute’s Transforming Community: Leading Contemplative Spiritual Groups & Retreats program.
URL:https://wellforthejourney.org/event/thanksgiving-gifts-a-praying-in-color-meditation-with-the-poetry-of-mary-oliver-online-program/
LOCATION:ZOOM
CATEGORIES:Online Programs
ATTACH;FMTTYPE=image/png:https://wellforthejourney.org/wp-content/uploads/2024/08/Thanksgiving-Gifts-900x506-1.png
ORGANIZER;CN="Well%20for%20the%20Journey":MAILTO:lorie@wellforthejourney.org
END:VEVENT
END:VCALENDAR