BEGIN:VCALENDAR
VERSION:2.0
PRODID:-//Well for the Journey - ECPv5.16.4//NONSGML v1.0//EN
CALSCALE:GREGORIAN
METHOD:PUBLISH
X-ORIGINAL-URL:https://wellforthejourney.org
X-WR-CALDESC:Events for Well for the Journey
REFRESH-INTERVAL;VALUE=DURATION:PT1H
X-Robots-Tag:noindex
X-PUBLISHED-TTL:PT1H
BEGIN:VTIMEZONE
TZID:America/New_York
BEGIN:DAYLIGHT
TZOFFSETFROM:-0500
TZOFFSETTO:-0400
TZNAME:EDT
DTSTART:20240310T070000
END:DAYLIGHT
BEGIN:STANDARD
TZOFFSETFROM:-0400
TZOFFSETTO:-0500
TZNAME:EST
DTSTART:20241103T060000
END:STANDARD
END:VTIMEZONE
BEGIN:VEVENT
DTSTART;TZID=America/New_York:20241113T183000
DTEND;TZID=America/New_York:20241113T200000
DTSTAMP:20260423T130133
CREATED:20240819T192117Z
LAST-MODIFIED:20240819T192117Z
UID:20872-1731522600-1731528000@wellforthejourney.org
SUMMARY:Creating Sacred Rituals in a Time of Grief\, Remembrance\, and Joy (Online Program)
DESCRIPTION:The ancient activity of creating and enacting rituals has served spiritual beings on the human journey for millennia. In particular\, rituals have enabled humanity to access their inherent\, divine spark to cultivate hope and meaning in the midst of life’s sweeping changes and ongoing seasons and cycles. To that end\, individuals and communities throughout history have been inspired to mark rites of passage with a concrete exercise to commemorate their experiences. Examples of this span the gamut of welcoming the birth of a new family member and reverently keeping Sabbath to healing from trauma & losses and transitioning into a new job or home or from this life into death and beyond. \nJoin us for a special online opportunity to explore the value of rituals and incorporate them more noticeably into our spiritual journey as a cherished practice. This program will include a timely focus as we experience the energies of remembrance and grief in Autumn\, prepare for the joy\, busyness\, and sometimes complex emotions of the Holiday Season\, and turn inward during the Winter season. Through meditation\, journaling\, and other spiritual exercises\, participants will be empowered and guided to create a ritual of their choice to honor a recent or upcoming transition or to manifest healing and balance as they process and integrate personal grief. Please have a journal handy for use during the program. \nDATE: Wednesday\, November 13\, 2024 \nTIME: 6:30 – 8:00 PM ET \nCOST: $35 \nLOCATION: ZOOM \nREGISTRATION is required; please register here. \nCANCELLATION POLICY: Please read our cancellation policy\, here. \nIMPORTANT: You will receive an email from lorie@wellforthejourney.org at least 24 hours in advance of the start of your program. If you are unable to find the email\, please check your SPAM or JUNK email folders. This email will include details to help you prepare for your program including any pertinent handouts\, location information\, and the ZOOM link for online programs. Please be sure you have received and read this email a minimum of 24 hours in advance of the start of the program. Thank you! \nFACILITATOR: Gordon Creamer \nFACILITATOR BIO: \nGordon Creamer\, creator of The Mission Bridge\, joined the Well’s Staff in July 2022 as Program Director. He has held leadership roles in healthcare programming and operations since 2001 at various Assisted Living\, Skilled Nursing\, and Hospice communities. He earned an MA in Spiritual & Pastoral Care from Loyola University and an MA in Theology from the Ecumenical Institute of St. Mary’s Seminary & University. He is currently a candidate for the Doctor of Ministry Program at the Ecumenical Institute. \nGordon has facilitated numerous retreats and workshops that focus on creating opportunities for participants to explore and enhance their spirituality and well-being through various media. Uplifting the journey of adults\, individuals with memory impairment\, and members of the LGBTQ+ community is a passion for him\, and in the last several years\, he has fostered support groups and programs for caregivers and those who are grieving losses. Trained as a spiritual director/companion\, end-of-life doula\, and Reiki practitioner\, Gordon welcomes all in discovering the spiritual life as a means of healing\, expanding and flourishing.
URL:https://wellforthejourney.org/event/creating-sacred-rituals-in-a-time-of-grief-remembrance-and-joy-online-program/
LOCATION:ZOOM
CATEGORIES:Online Programs
ORGANIZER;CN="Well%20for%20the%20Journey":MAILTO:lorie@wellforthejourney.org
END:VEVENT
END:VCALENDAR