BEGIN:VCALENDAR
VERSION:2.0
PRODID:-//Well for the Journey - ECPv5.16.4//NONSGML v1.0//EN
CALSCALE:GREGORIAN
METHOD:PUBLISH
X-WR-CALNAME:Well for the Journey
X-ORIGINAL-URL:https://wellforthejourney.org
X-WR-CALDESC:Events for Well for the Journey
REFRESH-INTERVAL;VALUE=DURATION:PT1H
X-Robots-Tag:noindex
X-PUBLISHED-TTL:PT1H
BEGIN:VTIMEZONE
TZID:America/New_York
BEGIN:DAYLIGHT
TZOFFSETFROM:-0500
TZOFFSETTO:-0400
TZNAME:EDT
DTSTART:20240310T070000
END:DAYLIGHT
BEGIN:STANDARD
TZOFFSETFROM:-0400
TZOFFSETTO:-0500
TZNAME:EST
DTSTART:20241103T060000
END:STANDARD
END:VTIMEZONE
BEGIN:VEVENT
DTSTART;TZID=America/New_York:20241206T130000
DTEND;TZID=America/New_York:20241206T143000
DTSTAMP:20260423T100515
CREATED:20240729T152858Z
LAST-MODIFIED:20240729T152858Z
UID:20690-1733490000-1733495400@wellforthejourney.org
SUMMARY:Journaling Your Magical Life (Online Program)
DESCRIPTION:If we look deeply\, every aspect of life has something magical about it and we hold the key to what is ‘our own magic’. Based on a commencement speech given by Brad Meltzer\, American novelist\, a series of journaling sessions with guided prompts will explore four “magic tricks”: making something appear\, making something disappear\, making two things switch places\, and changing one thing into something else. Each ‘trick’ has the potential to integrate journaling opportunities to reflect on and enhance life skills that encourage each of us be the best version of ourselves. \nOur session themes are: \nOctober 25th – Making Something Appear\nThe session will explore how we make choices to surround ourselves with people and experiences that provide support and encouragement to highlight our best traits. Pausing to examine times in our lives where people and experiences have been valuable is key to promoting spiritual growth. \nNovember 8th – Making Something Disappear\nThe session will explore challenges in our lives. Embracing a challenge can promote self-knowledge and equip us with the necessary strategies to harness our fears. Many times overcoming a fear leads to renewed strength and resilience. \nNovember 22nd – Making Two Things Switch Places\nThe session will explore how compassion for others is essential to life. Every person we encounter is battling something and many times you cannot ‘see it’. Finding empathy requires switching places with others to understand their journey and the value of your impact on the lives of others. \nDecember 6th – Changing One Thing Into Something Else\nThe session will explore the need to continue to pursue knowledge and growth to promote real change in our lives. It is essential to never stop striving for personal transformation and not get locked into a permanent state of being. \nYou are warmly invited to join experienced journaling facilitator\, Liz Neal\, to deepen your journaling practice or start a new one! No previous writing or journaling experience is required. You may join the entire series at a discounted rate or join one or more individual sessions. We look forward to a magical journaling journey with you at the Well! \nDATE: Fridays – 10/25\, 11/8\, 11/22\, 12/6/24 \nTIME: 1:00 – 2:30 PM ET \nCOST: $100 for the series of 4 sessions or $30 per session \nLOCATION: ZOOM \nREGISTRATION is required; please register here. \nCANCELLATION POLICY:  Please read our cancellation policy\, here. \nIMPORTANT: You will receive an email from lorie@wellforthejourney.org at least 24 hours in advance of the start of your program. If you are unable to find the email\, please check your SPAM or JUNK email folders. This email will include details to help you prepare for your program including any pertinent handouts\, location information\, and the ZOOM link for online programs. Please be sure you have received and read this email a minimum of 24 hours in advance of the start of the program. Thank you! \nFACILITATOR: Liz Neal \nFACILITATOR BIO: \nLiz has made journaling a routine practice for over 30 years. She has been blessed with a “heart for journaling” and now focuses on helping others discover the numerous benefits and insights that regular journaling can bring to their lives. Liz and her husband live in Cockeysville. She has worked in education as a teacher and administrator for over 32 years. She loves spending time with grandchildren\, reading\, and traveling. 
URL:https://wellforthejourney.org/event/journaling-your-magical-life-online-program/2024-12-06/
LOCATION:ZOOM
CATEGORIES:Online Programs
ATTACH;FMTTYPE=image/png:https://wellforthejourney.org/wp-content/uploads/2024/07/Journaling-Your-Magical-Life-900-x-506.png
ORGANIZER;CN="Well%20for%20the%20Journey":MAILTO:lorie@wellforthejourney.org
END:VEVENT
BEGIN:VEVENT
DTSTART;TZID=America/New_York:20241209T193000
DTEND;TZID=America/New_York:20241209T203000
DTSTAMP:20260423T100515
CREATED:20240723T163141Z
LAST-MODIFIED:20240723T163141Z
UID:21140-1733772600-1733776200@wellforthejourney.org
SUMMARY:Yoga Nidra – Guided Meditation & Stillness (Online Program)
DESCRIPTION:Yoga Nidra is a guided meditation practice that helps to relax the mind and body by doing “nothing.” This ancient practice produces a profound state of relaxation just by listening. \nOne hour of Yoga Nidra is equal to four (4) hours of sleep. As the mind slows down\, our thoughts begin to move away from us. Yoga Nidra happens in the space between waking and sleeping. It’s like floating! You disengage from stress-producing thoughts\, allowing the body\, mind\, and spirit to rest and heal naturally. Modern studies have validated the benefits of Yoga Nidra; showing that a guided meditation is very effective in reducing anxiety\, stress\, and depression. \nResting comfortably in your own home\, the practice can be done lying down or in a seated position with your feet up. All you have to do is listen. These are the items you will need: \n· A quiet place to lay down or recline.\n· Pillow for head and under your knees.\n· Blanket for warmth.\n· If desired\, an eye mask or pillow to block light.\n· Water to drink. \nThe Well is thrilled to continue our relationship with certified Kripalu Mindful Outdoor Guide\, Yoga Instructor\, and I Am Yoga Nidra Facilitator\, Jamila Keita to offer this deeply healing and restorative practice. Most individuals report feelings of enhanced well-being\, calm and better sleep after each session. Many feel relaxed and energized. \nIf you are new to meditation\, never tried or been successful at meditation\, or an experienced meditator\, we encourage you to give Yoga Nidra a try. You will be amazed at how easily you will achieve a meditative state. \nThe sessions are being offered twice a month on a Monday and Tuesday evening. You are welcome to purchase one session at a time or choose from three series options at a discounted rate – all sessions\, all Mondays\, or all Tuesdays. \nDATES: Mondays – 9/16\, 10/14\, 11/4\, 12/9/24\, 1/13/25 and Tuesdays – 9/24\, 10/29\, 11/12\, 12/17/24\, 1/28/25 \nTIME: 7:30 – 8:30 PM ET \nCOST: $15 per session\, All 10 sessions for $135\, All Monday sessions for $70\, or All Tuesday sessions for $70 \nLOCATION: ZOOM \nREGISTRATION is required; please register here. \nCANCELLATION POLICY:  Please read our cancellation policy\, here. \nIMPORTANT: You will receive an email from lorie@wellforthejourney.org at least 24 hours in advance of the start of your program. If you are unable to find the email\, please check your SPAM or JUNK email folders. This email will include details to help you prepare for your program including any pertinent handouts\, location information\, and the ZOOM link for online programs. Please be sure you have received and read this email a minimum of 24 hours in advance of the start of the program. Thank you! \nFACILITATOR: Jamila Keita \nFACILITATOR BIO: \nHi! My name is Evangeline “Jamila” Keita. I’ve been practicing yoga for almost 25 years and decided to teach yoga as my “retirement job.” It was during my yoga training (YT200) that I was introduced to Yoga Nidra. Immediately after completing YT200 in 2014\, I took my first Yoga Nidra training. Since that time\, I’ve taken subsequent trainings in Yoga Nidra in 2017 and 2021. I love this practice. \nDuring the shutdown\, I found “nature therapy.” This led me to complete a course through “The Kripalu School of Outdoor Leadership” and become a KMOG (Kripalu Mindful Outdoor Guide). \nI currently teach two yoga classes per week on Zoom. Each class includes poses and a short Yoga Nidra session. Since 2022\, I have provided weekly Yoga Nidra sessions for Hopewell Cancer Support Center and occasional Mindful Outdoor Experiences (MOEs). Additionally\, I work for Nature Worx\, a non-profit that provides MOEs to persons in recovery and the general public. \nI never imagined this second career as it is\, but it seems like a natural evolution to me. I hope you enjoy my offerings.
URL:https://wellforthejourney.org/event/yoga-nidra-guided-meditation-stillness-online-program/2024-12-09/
LOCATION:ZOOM
CATEGORIES:Online Programs
ATTACH;FMTTYPE=image/png:https://wellforthejourney.org/wp-content/uploads/2024/07/Yoga-Nidra-Fall-2024-900x506-2.png
ORGANIZER;CN="Well%20for%20the%20Journey":MAILTO:lorie@wellforthejourney.org
END:VEVENT
BEGIN:VEVENT
DTSTART;TZID=America/New_York:20241212T140000
DTEND;TZID=America/New_York:20241212T153000
DTSTAMP:20260423T100515
CREATED:20240521T183102Z
LAST-MODIFIED:20240521T183102Z
UID:20227-1734012000-1734017400@wellforthejourney.org
SUMMARY:Seven Sacred Pauses for Life's Daily Pilgrimage (Online Program Meeting Monthly)
DESCRIPTION:“All it takes is a simple\, sacred pause to get us in touch with the One who keeps vigil with us – the holy presence of so many names. Only you can name that which waits for you.” – Macrina Wiederkehr \nNo matter what spiritual path we follow\, we are all pilgrims together on each day’s journey. The details of our daily pilgrimage differ one from another\, but we all hope for a good day as we awake and move through the day with whatever joys and challenges await us. In her classic book\, Seven Sacred Pauses – Living Mindfully Through the Hours of the Day\, Macrina Wiederkehr invites us to embrace the rich tradition of consciously pausing at seven sacred moments of each day so that our daily passage through time is more of a sacred pilgrimage than one long To Do List. She encourages us to stay awake through the day\, “Each morning as I look out my window\, I want to be awake enough to say\, today I will remember to pause.” \nYou are invited to journey through the hours with spiritual companion and retreat leader\, Lorie Conway\, as we explore ways to practice pausing that recognize the busyness\, clutter\, noise\, and chaos that are rampant in our culture\, while gently encouraging us to be creators of our present moment. Each month will explore a different hour of the day and engage with contemplative spiritual practices that may be well suited for that time. We will use Wiederkehr’s book as a guide to the hours as we engage poetry\, music\, reflections\, and sacred text from an array of spiritual teachers and traditions. Please note\, it is not necessary to read the book as it is only one of many resources that will be utilized. \nOur monthly topics include:\n· September 26th – Introduction to Sacred Pausing\n· October 24th – The Awakening Hour – Dawn\n· November 21st – The Blessing Hour – Midmorning\n· December 12th – The Hour of Illumination – Midday\n· January 23rd – The Wisdom Hour – Midafternoon\n· February 20th – The Twilight Hour – Evening\n· March 20th – The Great Silence – Night\n· April 24th – The Night Watch – Midnight Until Dawn \nYou are welcome to join us for one\, many\, or all of the 8 monthly sessions. Lorie encourages you to join the first one\, if possible\, as it lays the groundwork for subsequent months. If you are unable to join the first one\, no worries! A handout will be provided to give you foundational information. \nDATES: Thursdays – 9/26\, 10/24\, 11/21\, 12/12/24\, and 1/23\, 2/20\, 3/20\, 4/24/25 \nTIME: 2:00 – 3:30 PM ET \nCOST: $35 per session or $250 for all 8 sessions \nREGISTRATION is required; please register here. \nCANCELLATION POLICY:  Please read our cancellation policy\, here. \nLOCATION: ZOOM \nIMPORTANT: You will receive an email from lorie@wellforthejourney.org at least 24 hours in advance of the start of your program. If you are unable to find the email\, please check your SPAM or JUNK email folders. This email will include details to help you prepare for your program including any pertinent handouts\, location information\, and the ZOOM link for online programs. Please be sure you have received and read this email a minimum of 24 hours in advance of the start of the program. Thank you! \nFACILITATOR: Lorie Conway \nFACILITATOR BIO: \nLorie has a passion for deep listening and accompanying others on their spiritual journeys through spiritual direction\, small groups\, and retreats. It is Lorie’s ongoing journey of transformation and spiritual discovery that fuels her desire to offer spiritual companioning to others. Lorie’s spirituality is rooted in the Christ tradition and is welcoming of the many paths and unique journeys enfolded within Divine Mystery. Lorie received her certificate in spiritual direction from the Kairos School of Spiritual Formation and holds a M.A. in Religion from Lancaster Theological Seminary and a M.A.S. in Behavioral Management & Human Resources from Johns Hopkins University. Lorie is delighted to serve both on the programming staff at the Well and as a program and retreat facilitator. She is also Director of the Shalem Institute’s Transforming Community: Leading Contemplative Spiritual Groups & Retreats program.
URL:https://wellforthejourney.org/event/seven-sacred-pauses-for-lifes-daily-pilgrimage-online-program-meeting-monthly/2024-12-12/
LOCATION:ZOOM
CATEGORIES:Online Programs
ATTACH;FMTTYPE=image/png:https://wellforthejourney.org/wp-content/uploads/2024/05/Seven-Sacred-Pauses-900x506-1.png
ORGANIZER;CN="Well%20for%20the%20Journey":MAILTO:lorie@wellforthejourney.org
END:VEVENT
BEGIN:VEVENT
DTSTART;TZID=America/New_York:20241214T083000
DTEND;TZID=America/New_York:20241214T110000
DTSTAMP:20260423T100515
CREATED:20240729T160451Z
LAST-MODIFIED:20240909T181144Z
UID:20696-1734165000-1734174000@wellforthejourney.org
SUMMARY:Group Spiritual Direction 2024-2025 with Cathy Rosensteel (In-Person & Online)
DESCRIPTION:Group Spiritual Direction is a process in which people gather together on a regular basis to assist one another in an ongoing awareness of God (Spirit\, Source\, Creator\, whatever your name is) in all of life. Participants in the group are seeking support for their responsiveness to God and they agree to support others in that same responsiveness. This contemplative approach to spiritual direction is grounded in the model that originated at the Shalem Institute for Spiritual Formation in Washington\, DC. . \nJoining the group is a deep commitment to one’s spiritual journey and to the other participants in the group. Three conditions are essential to the life of the group. Members must agree to: \n· Commit themselves to an honest relationship with God\, by whatever name called.\n· Participate wholeheartedly in the group process through consistent attendance and prayerful listening and response.\n· Open their spiritual journeys for consideration by others. \nThe group is limited to five participants and is facilitated by Cathy Rosensteel. The group will meet both in-person at the Well and on Zoom as noted below. \nCathy’s group has space for one new person this year. If you are feeling urged to give Group Spiritual Direction a try\, please call the Well at 410-296-9355. We will connect you with Cathy so that you can discuss your interest with her. \nDATES (In-Person at the Well): Saturdays – 9/28\, 10/12\, 11/9/24 and 3/8\, 4/12\, 5/10/25 \nDATES (Online via Zoom): Saturdays – 12/14/24 and 1/11\, 2/8/25 \nTIME: 8:30 – 11:00 AM \nCOST: $250 \nLOCATION: Well for the Journey – 120 W. Seminary Ave\, Lutherville-Timonium\, MD 21093 and ZOOM \nTO REGISTER:  Call the Well at 410-296-9355. We will connect you with Cathy so that you can discuss your interest with her to assure the group is a mutual fit. \nIMPORTANT: You will receive an email from lorie@wellforthejourney.org at least 24 hours in advance of the start of your program. If you are unable to find the email\, please check your SPAM or JUNK email folders. This email will include details to help you prepare for your program including any pertinent handouts\, location information\, and the ZOOM link for online programs. Please be sure you have received and read this email a minimum of 24 hours in advance of the start of the program. Thank you! \nFACILITATOR: Cathy Rosensteel \nFACILITATOR BIO:\nCathy facilitates group spiritual direction in the Shalem tradition at The Well. She has an M.A. in Spiritual Direction and Pastoral Care from Loyola University Maryland. Kindled by a week-long silent Ignatian retreat\, she developed a deep appreciation for silence and the Spiritual Exercises. Furthering her interest\, she completed the 19th Annotation of the Ignatian Spiritual Exercises in Everyday Life. Her work in this area includes leading retreats on finding silence in everyday living and walking the labyrinth. Through private practice\, Cathy is honored to provide individual spiritual direction in the Middle River and Towson areas. \nCathy’s background includes teaching teacher education candidates and directing the Special Education programs at Loyola University Maryland. She also had a notable career developing innovative programs for students with special needs\, as a teacher and administrator with the Baltimore City Public School System. \nDrawn to the outdoors\, Cathy treasures time at home on Seneca Creek with her husband and dog. She enjoys designing engraved affirmation stones\, gardening\, and swimming. Often\, she can be found happily reading\, near or in a body of water\, or just sitting\, very still.
URL:https://wellforthejourney.org/event/group-spiritual-direction-2024-2025-with-cathy-rosensteel-in-person-online/2024-12-14/
LOCATION:Well for the Journey (Note: Lutherville address)\, 120 W. Seminary Avenue\, Lutherville-Timonium\, MD\, 21093\, United States
CATEGORIES:In-Person Programs,Online Programs
ATTACH;FMTTYPE=image/png:https://wellforthejourney.org/wp-content/uploads/2024/07/Group-Spiritual-Direction-24-25-with-cathy-Rosensteel-900-x-506-1.png
ORGANIZER;CN="Well%20for%20the%20Journey":MAILTO:lorie@wellforthejourney.org
END:VEVENT
BEGIN:VEVENT
DTSTART;TZID=America/New_York:20241217T193000
DTEND;TZID=America/New_York:20241217T203000
DTSTAMP:20260423T100515
CREATED:20240723T163141Z
LAST-MODIFIED:20240723T163141Z
UID:21141-1734463800-1734467400@wellforthejourney.org
SUMMARY:Yoga Nidra – Guided Meditation & Stillness (Online Program)
DESCRIPTION:Yoga Nidra is a guided meditation practice that helps to relax the mind and body by doing “nothing.” This ancient practice produces a profound state of relaxation just by listening. \nOne hour of Yoga Nidra is equal to four (4) hours of sleep. As the mind slows down\, our thoughts begin to move away from us. Yoga Nidra happens in the space between waking and sleeping. It’s like floating! You disengage from stress-producing thoughts\, allowing the body\, mind\, and spirit to rest and heal naturally. Modern studies have validated the benefits of Yoga Nidra; showing that a guided meditation is very effective in reducing anxiety\, stress\, and depression. \nResting comfortably in your own home\, the practice can be done lying down or in a seated position with your feet up. All you have to do is listen. These are the items you will need: \n· A quiet place to lay down or recline.\n· Pillow for head and under your knees.\n· Blanket for warmth.\n· If desired\, an eye mask or pillow to block light.\n· Water to drink. \nThe Well is thrilled to continue our relationship with certified Kripalu Mindful Outdoor Guide\, Yoga Instructor\, and I Am Yoga Nidra Facilitator\, Jamila Keita to offer this deeply healing and restorative practice. Most individuals report feelings of enhanced well-being\, calm and better sleep after each session. Many feel relaxed and energized. \nIf you are new to meditation\, never tried or been successful at meditation\, or an experienced meditator\, we encourage you to give Yoga Nidra a try. You will be amazed at how easily you will achieve a meditative state. \nThe sessions are being offered twice a month on a Monday and Tuesday evening. You are welcome to purchase one session at a time or choose from three series options at a discounted rate – all sessions\, all Mondays\, or all Tuesdays. \nDATES: Mondays – 9/16\, 10/14\, 11/4\, 12/9/24\, 1/13/25 and Tuesdays – 9/24\, 10/29\, 11/12\, 12/17/24\, 1/28/25 \nTIME: 7:30 – 8:30 PM ET \nCOST: $15 per session\, All 10 sessions for $135\, All Monday sessions for $70\, or All Tuesday sessions for $70 \nLOCATION: ZOOM \nREGISTRATION is required; please register here. \nCANCELLATION POLICY:  Please read our cancellation policy\, here. \nIMPORTANT: You will receive an email from lorie@wellforthejourney.org at least 24 hours in advance of the start of your program. If you are unable to find the email\, please check your SPAM or JUNK email folders. This email will include details to help you prepare for your program including any pertinent handouts\, location information\, and the ZOOM link for online programs. Please be sure you have received and read this email a minimum of 24 hours in advance of the start of the program. Thank you! \nFACILITATOR: Jamila Keita \nFACILITATOR BIO: \nHi! My name is Evangeline “Jamila” Keita. I’ve been practicing yoga for almost 25 years and decided to teach yoga as my “retirement job.” It was during my yoga training (YT200) that I was introduced to Yoga Nidra. Immediately after completing YT200 in 2014\, I took my first Yoga Nidra training. Since that time\, I’ve taken subsequent trainings in Yoga Nidra in 2017 and 2021. I love this practice. \nDuring the shutdown\, I found “nature therapy.” This led me to complete a course through “The Kripalu School of Outdoor Leadership” and become a KMOG (Kripalu Mindful Outdoor Guide). \nI currently teach two yoga classes per week on Zoom. Each class includes poses and a short Yoga Nidra session. Since 2022\, I have provided weekly Yoga Nidra sessions for Hopewell Cancer Support Center and occasional Mindful Outdoor Experiences (MOEs). Additionally\, I work for Nature Worx\, a non-profit that provides MOEs to persons in recovery and the general public. \nI never imagined this second career as it is\, but it seems like a natural evolution to me. I hope you enjoy my offerings.
URL:https://wellforthejourney.org/event/yoga-nidra-guided-meditation-stillness-online-program/2024-12-17/
LOCATION:ZOOM
CATEGORIES:Online Programs
ATTACH;FMTTYPE=image/png:https://wellforthejourney.org/wp-content/uploads/2024/07/Yoga-Nidra-Fall-2024-900x506-2.png
ORGANIZER;CN="Well%20for%20the%20Journey":MAILTO:lorie@wellforthejourney.org
END:VEVENT
END:VCALENDAR