BEGIN:VCALENDAR
VERSION:2.0
PRODID:-//Well for the Journey - ECPv5.16.4//NONSGML v1.0//EN
CALSCALE:GREGORIAN
METHOD:PUBLISH
X-WR-CALNAME:Well for the Journey
X-ORIGINAL-URL:https://wellforthejourney.org
X-WR-CALDESC:Events for Well for the Journey
REFRESH-INTERVAL;VALUE=DURATION:PT1H
X-Robots-Tag:noindex
X-PUBLISHED-TTL:PT1H
BEGIN:VTIMEZONE
TZID:America/New_York
BEGIN:DAYLIGHT
TZOFFSETFROM:-0500
TZOFFSETTO:-0400
TZNAME:EDT
DTSTART:20240310T070000
END:DAYLIGHT
BEGIN:STANDARD
TZOFFSETFROM:-0400
TZOFFSETTO:-0500
TZNAME:EST
DTSTART:20241103T060000
END:STANDARD
END:VTIMEZONE
BEGIN:VEVENT
DTSTART;TZID=America/New_York:20240814T190000
DTEND;TZID=America/New_York:20240814T210000
DTSTAMP:20260423T160447
CREATED:20240520T155122Z
LAST-MODIFIED:20240520T155303Z
UID:20194-1723662000-1723669200@wellforthejourney.org
SUMMARY:What Color Is Your Spirituality? (Online Program)
DESCRIPTION:“Be everything that you are unapologetically; most of you will find out that you are not just one color\, you are a rainbow.” ~ Mridula Singh \nWhat Color Is Your Spirituality? Perhaps\, a question we don’t often ask ourselves. Yet\, our unique answer to such a rhetorical question can be indicative of the path we are on in life. It can speak volumes about the losses we’ve weathered\, the seasons in our relationships and commitments\, and our greatest joys and challenges being alive at this time in history. \nJoin us for a sensory-engaging and soul-nourishing evening\, where a diverse exploration of these themes will unfold in and through color play\, spiritual practices\, and group discussion. With visual-oriented exercises that promote creativity and reflection\, you will be invited to connect spectrums of vivid\, rustic\, and earth-toned colors to the diverse contours of your life story. You will also be invited to center your awareness in the deeper\, spiritual meaning of colors while interpreting them through the seasons of your life and re-envisioning the growth-enhancing experiences of your journeys. \nOur time together will include engagement with storytelling\, playful experimenting with color\, and a meditative exploration of the diversity\, beauty\, and spiritual significance of color. Participants will benefit by cultivating an enhanced and richer understanding of their identity\, the possibilities before them\, and where they perceive they are being called/directed in the present moment and within their lives. \nJoin Gordon for this colorful\, intriguing\, and insightful look at your spirituality from the cool comfort of your home. Please bring along a journal for writing prompts and either colored markers or pencils for some of the program’s exercises. What better way to spend a hot summer evening! \nDATE: Wednesday\, August 14\, 2024 \nTIME: 7:00 – 9:00 PM ET \nCOST: $40 \nLOCATION: ZOOM \nREGISTRATION is required; please register here. \nCANCELLATION POLICY: Please read our cancellation policy\, here. \nIMPORTANT: You will receive an email from lorie@wellforthejourney.org at least 24 hours in advance of the start of your program. If you are unable to find the email\, please check your SPAM or JUNK email folders. This email will include details to help you prepare for your program including any pertinent handouts\, location information\, and the ZOOM link for online programs. Please be sure you have received and read this email a minimum of 24 hours in advance of the start of the program. Thank you! \nFACILITATOR: Gordon Creamer \nFACILITATOR BIO: \nGordon Creamer\, creator of The Mission Bridge\, joined the Well’s Staff in July 2022 as Program Director. He has held leadership roles in healthcare programming and operations since 2001 at various Assisted Living\, Skilled Nursing\, and Hospice communities. He earned an MA in Spiritual & Pastoral Care from Loyola University and an MA in Theology from the Ecumenical Institute of St. Mary’s Seminary & University. He is currently a candidate for the Doctor of Ministry Program at the Ecumenical Institute. \nGordon has facilitated numerous retreats and workshops that focus on creating opportunities for participants to explore and enhance their spirituality and well-being through various media. Uplifting the journey of adults\, individuals with memory impairment\, and members of the LGBTQ+ community is a passion for him\, and in the last several years\, he has fostered support groups and programs for caregivers and those who are grieving losses. Trained as a spiritual director/companion\, end-of-life doula\, and Reiki practitioner\, Gordon welcomes all in discovering the spiritual life as a means of healing\, expanding and flourishing.
URL:https://wellforthejourney.org/event/what-color-is-your-spirituality-online-program/
LOCATION:ZOOM
CATEGORIES:Online Programs
ATTACH;FMTTYPE=image/png:https://wellforthejourney.org/wp-content/uploads/2024/05/What-Color-is-Your-Spirituality.png
ORGANIZER;CN="Well%20for%20the%20Journey":MAILTO:lorie@wellforthejourney.org
END:VEVENT
BEGIN:VEVENT
DTSTART;TZID=America/New_York:20240820T190000
DTEND;TZID=America/New_York:20240820T203000
DTSTAMP:20260423T160447
CREATED:20240425T175147Z
LAST-MODIFIED:20240509T132433Z
UID:20132-1724180400-1724185800@wellforthejourney.org
SUMMARY:Exploring Ecclesiastes through the Art of Vincent Van Gogh (Online Program)
DESCRIPTION:“Vanity of vanities! All is vanity.” The book of Ecclesiastes begins and ends with this proclamation (Ecc. 1:2 and Ecc. 12:8). Between these bookends\, the writer of this Book of Wisdom explores this recurring theme while questioning how one should live when life appears to be both futile and brief. Why am I here? What is the meaning of life? What is the best way to live? . \nJoin us for a unique program that seeks answers to these questions through interpreting the art of Vincent van Gogh. Van Gogh used his passion\, art\, and tireless pursuit of happiness to seek answers to endless questions. Like many of us\, he struggled with day-to-day needs and desires\, and turned to nature\, people\, and God in search of peace. \nCheryl Duvall\, a lifelong artist and Vincent van Gogh enthusiast\, will facilitate this program that involves both passive and active engagement. She will read select passages from Ecclesiastes while simultaneously displaying 27 images from Van Gogh’s vast collection in a stimulating interpretation of this Book of Wisdom. She will share how she first created the connection between her favorite artist and Ecclesiastes in the mid-1990s\, and then planned two different pilgrimages to Arles\, France to further her understanding of when\, where\, how\, and why he painted so many works of art there. \nJoin Cheryl from the cool comfort of your home for an engaging Summer evening of exploration and discussion about using art to uncover deeper meanings to sacred scriptures that challenge us in today’s world. \nDATE: Tuesday\, August 20\, 2024 \nTIME: 7:00 – 8:30 PM ET \nCOST: $30 \nLOCATION: ZOOM \nREGISTRATION is required; please register here. \nCANCELLATION POLICY: Please read our cancellation policy\, here. \nIMPORTANT: You will receive an email from lorie@wellforthejourney.org at least 24 hours in advance of the start of your program. If you are unable to find the email\, please check your SPAM or JUNK email folders. This email will include details to help you prepare for your program including any pertinent handouts\, location information\, and the ZOOM link for online programs. Please be sure you have received and read this email a minimum of 24 hours in advance of the start of the program. Thank you! \nFACILITATOR: Cheryl Duvall \nFACILITATOR BIO: \nCheryl Duvall recently retired from the interior design and architecture industry after 44 glorious years. A lifelong artist\, she now has time to joyfully pursue several creative interests described as her 2 Ss and 3Ws: sailing\, sewing\, writing\, watercolors\, and weaving. A licensed USCG captain\, she lives with her husband in Annapolis and they spend lots of time sailing Belle Bateau\, a Gozzard 44\, on the Chesapeake Bay and east coast waters. Cheryl is a noted writer and recently began contributing monthly articles for SpinSheet\, a magazine for and about Chesapeake Bay sailors. She holds a Master of Science in Positive Organization Development and Change from Case Western Reserve University\, and a Bachelor of Science in Interior Design from University of Maryland. Cheryl is also a former Board Member at the Well. When she isn’t pursuing the Ss and Ws\, she can often be found giggling with her four grandchildren in North Carolina.
URL:https://wellforthejourney.org/event/exploring-ecclesiastes-through-the-art-of-vincent-van-gogh-online-program/
LOCATION:ZOOM
CATEGORIES:Online Programs
ATTACH;FMTTYPE=image/png:https://wellforthejourney.org/wp-content/uploads/2024/04/Exploring-Ecclesiastes-through-the-Art-of-Vincent-Van-Gogh-900x506-1.png
ORGANIZER;CN="Well%20for%20the%20Journey":MAILTO:lorie@wellforthejourney.org
END:VEVENT
END:VCALENDAR